Workbook
Name _min1: #REF!
Name _min1: #REF!
Name _min1: #REF!
Name _min1: #REF!
Name _min1: #REF!
Name _min1: #REF!
Name _min10: #REF!
Name _min10: #REF!
Name _min10: #REF!
Name _min10: #REF!
Name _min10: #REF!
Name _min10: #REF!
Name _min11: #REF!
Name _min11: #REF!
Name _min11: #REF!
Name _min11: #REF!
Name _min11: #REF!
Name _min11: #REF!
Name _min2: #REF!
Name _min2: #REF!
Name _min2: #REF!
Name _min2: #REF!
Name _min2: #REF!
Name _min2: #REF!
Name _min3: #REF!
Name _min3: #REF!
Name _min3: #REF!
Name _min3: #REF!
Name _min3: #REF!
Name _min3: #REF!
Name _min4: #REF!
Name _min4: #REF!
Name _min4: #REF!
Name _min4: #REF!
Name _min4: #REF!
Name _min4: #REF!
Name _min5: #REF!
Name _min5: #REF!
Name _min5: #REF!
Name _min5: #REF!
Name _min5: #REF!
Name _min5: #REF!
Name _min6: #REF!
Name _min6: #REF!
Name _min6: #REF!
Name _min6: #REF!
Name _min6: #REF!
Name _min6: #REF!
Name _min7: #REF!
Name _min7: #REF!
Name _min7: #REF!
Name _min7: #REF!
Name _min7: #REF!
Name _min7: #REF!
Name _min8: #REF!
Name _min8: #REF!
Name _min8: #REF!
Name _min8: #REF!
Name _min8: #REF!
Name _min8: #REF!

Sheet PENGUMUMAN
A1: PENGUMUMAN KELULUSAN SISWA/I
A2: SMK MUHAMMADIYAH KOTA PAGAR ALAM
A3: TAHUN PELAJARAN 2024/2025
A7: Berdasarkan Keputusan Rapat Dewan Guru dan Hasil Ujian Satuan Pendidikan Tahun Pelajaran 2024/2025, maka siswa SMK Muhammadiyah Kota Pagar Alam dinyatakan LULUS 100%, dengan daftar nama siswa terlampir :
A8: HIMBAWAN : | D8: 1. Tidak melakukan konvoi/arak-arakan di jalan yang bisa merugikan diri sendiri dan orang lain.
D9: 2. Tidak melakukan aksi corat coret pakaian ataupun fasilitas umum lainnya, sebaliknya jika ada pakaian/seragam yang masih layak agar diberikan kepada adik kelas yang kurang mampu.
D10: 3. Apabaila ditemukan siswa yang corat coret, konvoi, atau kegaduhan lainnya, maka sekolah tidak bertanggung jawab atas semua pelangaran yang dilakukan.
D11: 4. Orang Tua/Wali Siswa Berkerjasama dengan pihak sekolah untuk mengawasi, mentertibkan aksi Corat-Coret, Konvoi, kegiatan kegaduhan lainnya yang dilakukan oleh siswa/i.
A13: NO | B13: NIS | C13: NISN | D13: N A M A S I S W A | E13: TEMPAT TANGGAL LAHIR | F13: L/P | G13: NAMA ORANG TUA | H13: PROGRAM KEAHLIAN | I13: KETERANGAN
A15: 1 | B15: 6414 | C15: 0065798420 | D15: ALDIAN MUSTOPA | E15: NANTIGIRI, 28 DESEMBER 2006 | F15: L | G15: SULHADI | H15: TEKNIK SEPEDA MOTOR | I15: LULUS
A16: =A15+1 -> 2 | B16: 6415 | C16: 0061726912 | D16: ALIFIAN TABAH DEWANGGA PUTRA | E16: GUNUNG KIDUL, 02 JUNI 2006 | F16: L | G16: IDIAL AKBAR | H16: TEKNIK SEPEDA MOTOR | I16: LULUS
A17: =A16+1 -> 3 | B17: 6416 | C17: 0084705671 | D17: AMANDA ULIA SARI | E17: KARANG CAYA, 26 JANUARI 2008 | F17: P | G17: YULIUS | H17: TEKNIK SEPEDA MOTOR | I17: LULUS
A18: =A17+1 -> 4 | B18: 6417 | C18: 0074233894 | D18: BERLIAN ALPAS. S | E18: KOTA RAYA LEMBAK, 29 JUNI 2007 | F18: L | G18: ERVI ADI | H18: TEKNIK SEPEDA MOTOR | I18: LULUS
A19: =A18+1 -> 5 | B19: 6418 | C19: 0077319274 | D19: BINTANG PRAJA DINATA | E19: PAGARALAM, 19 MEI 2007 | F19: L | G19: MUHAMMAD RIZALI | H19: TEKNIK SEPEDA MOTOR | I19: LULUS
A20: =A19+1 -> 6 | B20: 6419 | C20: 0079342190 | D20: BOGI ALZA ANGGARA PUTRA | E20: PAGAR ALAM, 27 MEI 2007 | F20: L | G20: M. YUAN KASTRA | H20: TEKNIK SEPEDA MOTOR | I20: LULUS
A21: =A20+1 -> 7 | B21: 6420 | C21: 0072564426 | D21: CHOKY ANDRIANO | E21: LAHAT, 18 NOPEMBER 2007 | F21: L | G21: WINDI HABIBI, S.Pd | H21: TEKNIK SEPEDA MOTOR | I21: LULUS
A22: =A21+1 -> 8 | B22: 6421 | C22: 0077991280 | D22: DHIO RIZA PAMUNGKAS | E22: PAGAR ALAM, 08 AGUSTUS 2007 | F22: L | G22: AMIR HAMZAH | H22: TEKNIK SEPEDA MOTOR | I22: LULUS
A23: =A22+1 -> 9 | B23: 6422 | C23: 0074224061 | D23: DIMAS ADREAN | E23: PAGAR ALAM, 04 MEI 2007 | F23: L | G23: PITERMAN | H23: TEKNIK SEPEDA MOTOR | I23: LULUS
A24: =A23+1 -> 10 | B24: 6423 | C24: 0083857570 | D24: DWI MEISYAH ARIANI | E24: SUKARAJA, 12 MEI 2007 | F24: P | G24: ASWARI | H24: TEKNIK SEPEDA MOTOR | I24: LULUS
A25: =A24+1 -> 11 | B25: 6424 | C25: 0071914508 | D25: EDO ANJA SAPUTRA | E25: PAGARALAM, 05 JULI 2007 | F25: L | G25: DAHRI ISKANDAR | H25: TEKNIK SEPEDA MOTOR | I25: LULUS
A26: =A25+1 -> 12 | B26: 6425 | C26: 0077848023 | D26: ERIK AFRILIAN PRATAMA | E26: PAJAR BULAN, 12 APRIL 2007 | F26: L | G26: HERWAN TRIANTO | H26: TEKNIK SEPEDA MOTOR | I26: LULUS
A27: =A26+1 -> 13 | B27: 6427 | C27: 0073111325 | D27: GERY ANDRIANSYAH | E27: PAGAR ALAM, 25 APRIL 2007 | F27: L | G27: HERLIN | H27: TEKNIK SEPEDA MOTOR | I27: LULUS
... A51: =A50+1 -> 37 | B51: 6512 | C51: 0069451020 | D51: REHAN RAHMADANI | E51: PAGAR ALAM, 07 OKTOBER 2006 | F51: L | G51: HERIANTO | H51: TEKNIK SEPEDA MOTOR | I51: LULUS
A52: =A51+1 -> 38 | B52: 6786 | C52: 0089496749 | D52: PALYEN JASWASYA | E52: PALEMBANG, 10 APRIL 2008 | F52: L | G52: JUBARSIH | H52: TEKNIK SEPEDA MOTOR | I52: LULUS
A53: =A52+1 -> 39 | B53: 6451 | C53: 0072211749 | D53: AHMAD ALFAREZI | E53: PAGAR ALAM, 06 MEI 2007 | F53: L | G53: RUDI HARTONO | H53: TEKNIK SEPEDA MOTOR | I53: LULUS
A54: =A53+1 -> 40 | B54: 6453 | C54: 0077292876 | D54: AHMAD PARZA | E54: PAGAR ALAM, 18 NOVEMBER 2007 | F54: L | G54: PANHARUDIN | H54: TEKNIK SEPEDA MOTOR | I54: LULUS
A55: =A54+1 -> 41 | B55: 6454 | C55: 0076222903 | D55: ALIF RAHMAN | E55: PAGAR ALAM, 31 AGUSTUS 2007 | F55: L | G55: AWALUDIN | H55: TEKNIK SEPEDA MOTOR | I55: LULUS
A56: =A55+1 -> 42 | B56: 6455 | C56: 0088216835 | D56: ANDREAS MARTA | E56: DESA SAWAH, 22 MARET 2008 | F56: L | G56: SULAIMAN | H56: TEKNIK SEPEDA MOTOR | I56: LULUS
A57: =A56+1 -> 43 | B57: 6456 | C57: 0073367773 | D57: ARUM ABDILLAH | E57: PAGARALAM, 26 OKTOBER 2007 | F57: L | G57: WAGIMAN | H57: TEKNIK SEPEDA MOTOR | I57: LULUS
A58: =A57+1 -> 44 | B58: 6458 | C58: 0079932838 | D58: DAFFA AULIA RAYHAN | E58: PAGARALAM, 30 APRIL 2007 | F58: L | G58: WIDODO | H58: TEKNIK SEPEDA MOTOR | I58: LULUS
A59: =A58+1 -> 45 | B59: 6459 | C59: 0081407046 | D59: DAFFA DZAKY AR RAFFI | E59: TALANG DUKUN, 10 MEI 2008 | F59: L | G59: HAYADI | H59: TEKNIK SEPEDA MOTOR | I59: LULUS
A60: =A59+1 -> 46 | B60: 6460 | C60: 0072784269 | D60: DIDI UTOMO | E60: PAGARALAM, 16 MEI 2007 | F60: L | G60: SUNARTO | H60: TEKNIK SEPEDA MOTOR | I60: LULUS
A61: =A60+1 -> 47 | B61: 6464 | C61: 0075430783 | D61: HERDIAN MERZA AZZOHRI | E61: GURU AGUNG, 20 DESEMBER 2007 | F61: L | G61: MOHAMAD MIRHANSYAH | H61: TEKNIK SEPEDA MOTOR | I61: LULUS
A62: =A61+1 -> 48 | B62: 6466 | C62: 0079106794 | D62: MUHAMMAD BIMO PRAYOGA | E62: PAGAR ALAM, 15 JANUARI 2007 | F62: L | G62: MUHAMMAD SAYUDI | H62: TEKNIK SEPEDA MOTOR | I62: LULUS
A63: =A62+1 -> 49 | B63: 6467 | C63: 0065879089 | D63: MUHAMMAD NABIL AMMAR | E63: PAGARALAM, 11 OKTOBER 2006 | F63: L | G63: HUSNI | H63: TEKNIK SEPEDA MOTOR | I63: LULUS
A64: =A63+1 -> 50 | B64: 6470 | C64: 0073319211 | D64: M. AGUNG ALPA RISKI | E64: ACEH, 1 DESEMBER 2006 | F64: L | G64: MURSALIN | H64: TEKNIK SEPEDA MOTOR | I64: LULUS
... A132: =A131+1 -> 118 | B132: 6562 | C132: 0072615445 | D132: VERRA MARLEZAH | E132: PAGAR ALAM, 14 JUNI 2007 | F132: P | G132: MARDAN | H132: TEKNIK KOMPUTER JARINGAN | I132: LULUS
A133: =A132+1 -> 119 | B133: 6790 | C133: 0074311101 | D133: ADINDA JADMIN SUSILO | E133: PAGARALAM, 9 OKTOBER 2007 | F133: P | G133: EKO SUSILO | H133: TEKNIK KOMPUTER JARINGAN | I133: LULUS
A134: =A133+1 -> 120 | B134: 6563 | C134: 0078885813 | D134: AISYAH AFRILIA CAHYANI | E134: TANJUNG MENANG, 2 APRIL 2007 | F134: P | G134: ALMIHRUB | H134: DESAIN KOMUNIKASI VISUAL | I134: LULUS
A135: =A134+1 -> 121 | B135: 6564 | C135: 0075144465 | D135: ALEN MAHENDRA | E135: TERTAP, 8 APRIL 2007 | F135: L | G135: ALEX WAHYUDI | H135: DESAIN KOMUNIKASI VISUAL | I135: LULUS
...

Sheet AP (3)
A1: PENGUMUMAN KELULUSAN
A2: SMK MUHAMMADIYAH KOTA PAGAR ALAM
A3: TAHUN PELAJARAN 2023/2024
A7: Berdasarkan Keputusan Rapat Dewan Guru dan Hasil Penilaian Satuan Pendidikan (PSP) Tahun Pelajaran 2023/2024, maka siswa SMK Muhammadiyah Kota Pagar Alam dinyatakan LULUS 100%, dengan daftar nama siswa terlampir :
A8: HIMBAWAN : | C8: 1. Tidak melakukan konvoi/arak-arakan di jalan yang bisa merugikan diri sendiri dan orang lain.
C9: 2. Tidak melakukan aksi corat coret pakaian ataupun fasilitas umum lainnya, sebaliknya jika ada pakaian/seragam yang masih layak agar diberikan kepada adik kelas yang kurang mampu.
C10: 3. Apabaila ditemukan siswa yang corat coret, konvoi, atau kegaduhan lainnya, maka lembaga tersebut akan diberikan sanksi.
A13: NO | B13: NIS | C13: NISN | D13: NOMOR UJIAN | E13: N A M A S I S W A | F13: TEMPAT TANGGAL LAHIR | G13: L/P | H13: NAMA ORANG TUA | I13: ALAMAT | J13: KELAS JURUSAN | K13: KETERANGAN
A15: 1 | B15: 6032 | C15: 0050978914 | D15: USP-02-2024-01 | E15: ABIL OKRIANSYAH | F15: GUNUNG AGUNG LAMA, 30 OKTOBER 2005 | G15: L | H15: RINSON | I15: GANG SAHABAT | J15: TEKNIK DAN BISNIS SEPEDA MOTOR | K15: LULUS
A16: =A15+1 -> 2 | B16: 6033 | C16: 0066193966 | D16: USP-02-2024-02 | E16: ADDREAN MARTHA DINATA | F16: ULAK BANDUNG, 31 MEI 2006 | G16: L | H16: MURSALIN | I16: ULAK BANDUNG | J16: TEKNIK DAN BISNIS SEPEDA MOTOR | K16: LULUS
A17: =A16+1 -> 3 | B17: 6034 | C17: 0065222134 | D17: USP-02-2024-03 | E17: ADJIE DWI NUGRAHA | F17: LAHAT, 21 DESEMBER 2006 | G17: L | H17: HAIRIL ANWAR | I17: JARAI | J17: TEKNIK DAN BISNIS SEPEDA MOTOR | K17: LULUS
A18: =A17+1 -> 4 | B18: 6036 | C18: 0064078013 | D18: USP-02-2024-04 | E18: AGIL PRATAMA | F18: PAGARALAM, 25 AGUSTUS 2006 | G18: L | H18: GURUH IRIANTO | I18: DS.BANTUNAN | J18: TEKNIK DAN BISNIS SEPEDA MOTOR | K18: LULUS
A19: =A18+1 -> 5 | B19: 6037 | C19: 0068131708 | D19: USP-02-2024-05 | E19: AHMAD ADEN JAMIL | F19: PAGAR ALAM, 30 JUNI 2006 | G19: L | H19: PAISOL BAKRI | I19: SIDOREJO | J19: TEKNIK DAN BISNIS SEPEDA MOTOR | K19: LULUS
A20: =A19+1 -> 6 | B20: 6038 | C20: 0062220503 | D20: USP-02-2024-06 | E20: BATARA ANUGRAH | F20: PAGAR ALAM, 27 JUNI 2006 | G20: L | H20: HERWAN SYAHRI | I20: BUMIAGUNG | J20: TEKNIK DAN BISNIS SEPEDA MOTOR | K20: LULUS
A21: =A20+1 -> 7 | B21: 6039 | C21: 0061700349 | D21: USP-02-2024-07 | E21: DAFFI ANDRA WIRANATA | F21: PAGARALAM, 20 JULI 2006 | G21: L | H21: SURATNO | I21: SUKA MAKMUR | J21: TEKNIK DAN BISNIS SEPEDA MOTOR | K21: LULUS
A22: =A21+1 -> 8 | B22: 6040 | C22: 0064589210 | D22: USP-02-2024-08 | E22: DANDI KUSUMA | F22: PAGARALAM, 9 MEI 2006 | G22: L | H22: PUJIANTO | I22: PEMATANG BANGO | J22: TEKNIK DAN BISNIS SEPEDA MOTOR | K22: LULUS
A23: =A22+1 -> 9 | B23: 6041 | C23: 0068611085 | D23: USP-02-2024-09 | E23: DERI SUGARA | F23: PAGAR ALAM, 21 SEPTEMBER 2006 | G23: L | H23: DEDI SUMARWAN | I23: KERINJING | J23: TEKNIK DAN BISNIS SEPEDA MOTOR | K23: LULUS
A24: =A23+1 -> 10 | B24: 6042 | C24: 0061961591 | D24: USP-02-2024-10 | E24: DIMAS PUTRA | F24: LAHAT, 13 SEPTEMBER 2006 | G24: L | H24: YURDAN MERY | I24: PERUMNAS GERIYA ABDI NEGARA | J24: TEKNIK DAN BISNIS SEPEDA MOTOR | K24: LULUS
A25: =A24+1 -> 11 | B25: 6045 | C25: 0062824184 | D25: USP-02-2024-11 | E25: EZER APRILIANSYAH | F25: SADAN, 18 APRIL 2006 | G25: L | H25: RUSLI | I25: SADAN | J25: TEKNIK DAN BISNIS SEPEDA MOTOR | K25: LULUS
A26: =A25+1 -> 12 | B26: 6046 | C26: 0069491620 | D26: USP-02-2024-12 | E26: FADHIL JUNIAR | F26: PAGARALAM, 25 JUNI 2006 | G26: L | H26: PURWANTO | I26: JL. LASKAR WANITA MENTARJO | J26: TEKNIK DAN BISNIS SEPEDA MOTOR | K26: LULUS
A27: =A26+1 -> 13 | B27: 6047 | C27: 0069519013 | D27: USP-02-2024-13 | E27: FAHMI | F27: PAGAR ALAM, 23 JULI 2006 | G27: L | H27: LISPAWATI | I27: KARANG DALO | J27: TEKNIK DAN BISNIS SEPEDA MOTOR | K27: LULUS
... A70: =A69+1 -> 56 | B70: 6096 | C70: 0066236581 | D70: USP-02-2024-56 | E70: REZA ANGGARA | F70: PAGAR ALAM, 22 FEBRUARI 2006 | G70: L | H70: SUBIRIN | I70: SUKARAMI | J70: TEKNIK DAN BISNIS SEPEDA MOTOR | K70: LULUS
A71: =A70+1 -> 57 | B71: 6097 | C71: 61401498 | D71: USP-02-2024-57 | E71: RISKI PERMANA | F71: PEKANBARU, 21 SEPTEMBER 2006 | G71: L | H71: FERI AGUS | I71: TALANG JENGKOL | J71: TEKNIK DAN BISNIS SEPEDA MOTOR | K71: LULUS
A72: =A71+1 -> 58 | B72: 6098 | C72: 0062874101 | D72: USP-02-2024-58 | E72: SAHLEFI ANWAR | F72: PAGARALAM, 10 NOVEMBER 2006 | G72: L | H72: MUSRIADI | I72: JL. PRATU SUKER | J72: TEKNIK DAN BISNIS SEPEDA MOTOR | K72: LULUS
A73: =A72+1 -> 59 | B73: 6100 | C73: 0069098861 | D73: USP-02-2024-59 | E73: VANES NOVANZA | F73: PAGARALAM, 01 NOVEMBER 2006 | G73: L | H73: ELMI HARIS | I73: GUNUNG GENDANG | J73: TEKNIK DAN BISNIS SEPEDA MOTOR | K73: LULUS
A74: =A73+1 -> 60 | B74: 6101 | C74: 0064148300 | D74: USP-02-2024-60 | E74: VIRGGI ADE WIBOWO | F74: PAGAR ALAM, 1 NOVEMBER 2006 | G74: L | H74: SAPTORO | I74: NUSA INDAH | J74: TEKNIK DAN BISNIS SEPEDA MOTOR | K74: LULUS
A75: =A74+1 -> 61 | B75: 6102 | C75: 0069534905 | D75: USP-02-2024-61 | E75: ALFIN PUTRA PRATAMA | F75: PALEMBANG, 23 JULI 2006 | G75: L | H75: UNDARMAN | I75: JALAN NUSANTARA | J75: TEKNIK DAN BISNIS SEPEDA MOTOR | K75: LULUS
A76: =A75+1 -> 62 | B76: 6103 | C76: 0065776437 | D76: USP-02-2024-62 | E76: AMAD JUANDA | F76: PAGAR ALAM, 14 APRIL 2006 | G76: L | H76: ENDANG SUDIBYO | I76: PAGAR ALAM SELATAN | J76: TEKNIK DAN BISNIS SEPEDA MOTOR | K76: LULUS
A77: =A76+1 -> 63 | B77: 6104 | C77: 0044063273 | D77: USP-02-2024-63 | E77: ANGGA | F77: PAGARALAM, 02 AGUSTUS 2004 | G77: L | H77: BUDIMAN | I77: AIR PERIKAN | J77: TEKNIK DAN BISNIS SEPEDA MOTOR | K77: LULUS
A78: =A77+1 -> 64 | B78: 6105 | C78: 0050978876 | D78: USP-02-2024-64 | E78: AREF HIDAYAT | F78: PAGARALAM, 3 JANUARI 2005 | G78: L | H78: AFENDI | I78: NENDAGUNG JALAN GUNUNG | J78: TEKNIK DAN BISNIS SEPEDA MOTOR | K78: LULUS
A79: =A78+1 -> 65 | B79: 6106 | C79: 0051204072 | D79: USP-02-2024-65 | E79: ARI ANGGARA | F79: ULAK BANDUNG, 17 MEI 2005 | G79: L | H79: ZULFERNI | I79: ULAK BANDUNG | J79: TEKNIK DAN BISNIS SEPEDA MOTOR | K79: LULUS
A80: =A79+1 -> 66 | B80: 6107 | C80: 0056504347 | D80: USP-02-2024-66 | E80: ARYA MINGGI SAPUTRA | F80: JAMBAT AKAR, 21 DESEMBER 2005 | G80: L | H80: PILSI | I80: JAMBAT AKAR | J80: TEKNIK DAN BISNIS SEPEDA MOTOR | K80: LULUS
A81: =A80+1 -> 67 | B81: 6108 | C81: 40398302 | D81: USP-02-2024-67 | E81: BELLY AJI BUJANGGER | F81: PAGAR ALAM, 17 NOVEMBER 2004 | G81: L | H81: YUSINAR | I81: PAGARDIN | J81: TEKNIK DAN BISNIS SEPEDA MOTOR | K81: LULUS
A82: =A81+1 -> 68 | B82: 6109 | C82: 0062603508 | D82: USP-02-2024-68 | E82: DAVID JUNI ANGGRA | F82: PAGAR ALAM, 28 JUNI 2006 | G82: L | H82: RADI SUBROTO | I82: SUKA MULYA | J82: TEKNIK DAN BISNIS SEPEDA MOTOR | K82: LULUS
A83: =A82+1 -> 69 | B83: 6110 | C83: 0067012685 | D83: USP-02-2024-69 | E83: DANI ANDIKA | F83: PAGAR ALAM, 29 MEI 2006 | G83: L | H83: JUNA | I83: TEBAT BARU ILIR | J83: TEKNIK DAN BISNIS SEPEDA MOTOR | K83: LULUS
... A150: =A149+1 -> 136 | B150: 6278 | C150: 0074666987 | D150: USP-02-2024-136 | E150: ELKHA JESSICA | F150: PAGAR ALAM, 1 JUNI 2007 | G150: P | H150: LAS PUJIANTO | I150: JANANG | J150: FARMASI KLINIS DAN KOMUNITAS | K150: LULUS
A151: =A150+1 -> 137 | B151: 6279 | C151: 65633815 | D151: USP-02-2024-137 | E151: ELLA PUTRI ARIANTI | F151: PAGARALAM, 19 OKTOBER 2006 | G151: P | H151: EDI SURIANTO | I151: GANG MELATI | J151: FARMASI KLINIS DAN KOMUNITAS | K151: LULUS
A152: =A151+1 -> 138 | B152: 6280 | C152: 0066853099 | D152: USP-02-2024-138 | E152: FITRAH ZONATHA | F152: PAGAR ALAM, 24 OKTOBER 2006 | G152: L | H152: JONI | I152: SIDOREJO | J152: FARMASI KLINIS DAN KOMUNITAS | K152: LULUS
A153: =A152+1 -> 139 | B153: 6281 | C153: 0063818365 | D153: USP-02-2024-139 | E153: FITRI OKTA RAMAHDANI | F153: PAGARALAM, 24 OKTOBER 2006 | G153: P | H153: SUPRIANTO | I153: MUJAIS KARIM | J153: FARMASI KLINIS DAN KOMUNITAS | K153: LULUS
A154: =A153+1 -> 140 | B154: 6282 | C154: 67631666 | D154: USP-02-2024-140 | E154: FLORA CANTIKA | F154: PAGAR ALAM, 18 OKTOBER 2006 | G154: P | H154: HENDRI | I154: TEBAT BARU ULU | J154: FARMASI KLINIS DAN KOMUNITAS | K154: LULUS
...

Sheet CETAK KELULUSAN
A1: MAJELIS PENDIDIKAN DASAR DAN MENENGAH | L1: MAJELIS PENDIDIKAN DASAR DAN MENENGAH | AC1: 300 | AD1: MASUKAN NOMOR URUT SISWA PADA LEMBAR PENGUMUMAN
A2: PIMPINAN DAERAH MUHAMMADIYAH PAGAR ALAM | L2: PIMPINAN DAERAH MUHAMMADIYAH PAGAR ALAM
A3: SMK MUHAMMADIYAH PAGAR ALAM | L3: SMK MUHAMMADIYAH PAGAR ALAM | AC3: PRINT SURAT KELULUSAN SESUAI YG DIBUTUHKAN
A4: KOMPETENSI KEAHLIAN : AKUNTANSI DAN KEUANGAN LEMBAGA | L4: KOMPETENSI KEAHLIAN : AKUNTANSI DAN KEUANGAN LEMBAGA
A5: MANAJEMEN PERKANTORAN DAN LAYANAN BISNIS, DESAIN KOMUNIKASI VISUAL | L5: MANAJEMEN PERKANTORAN DAN LAYANAN BISNIS, DESAIN KOMUNIKASI VISUAL
A6: TEKNIK JARINGAN KOMPUTER DAN TELEKOMUNIKASI,TEKNIK OTOMOTIF, TEKNOLOGI FARMASI | L6: TEKNIK JARINGAN KOMPUTER DAN TELEKOMUNIKASI,
A7: TERAKREDITASI | L7: TEKNIK OTOMOTIF, TEKNOLOGI FARMASI
A8: Jalan Kombes H. Umar No. 1123 Kota Pagaralam–Sumatera Selatan Telp/Faks ( 0730 ) 624223 | L8: TERAKREDITASI
A9: Pos-El : smkmuhpagaralam@yahoo.co.id | L9: Jalan Kombes H. Umar No. 1123 Kota Pagaralam–Sumatera Selatan Telp/Faks ( 0730 ) 624223 | AA9: UNTUK PENEMPELAN FOTO, TTD KEPALA SEKOLAH DAN STAMPEL/CAP SEKOLAH SISWA DIWAJIBKAN MEMINTA KE KANTOR STAF TATA USAHA SEKOLAH
L10: Pos-El : smkmuhpagaralam@yahoo.co.id
A14: SURAT KETERANGAN LULUS | L14: SURAT KETERANGAN LULUS
A15: Nomor : 2901 /III.4.AU.SMKM/F/2025 | L15: Nomor : 2511 /III.4.AU.SMKM/F/2024
A16: Tentang :
A17: Pengumuman Kelulusan dan ketidaklulusan Tingkat Satuan Pendidikan Sekolah Menengah Kejuruan Provinsi Sumatera Selatan Pada Sekolah Menengah Kejuruan Muhammadiyah Kota Pagar Alam Tahun Pelajaran 2024/2025. | L17: Yang bertanda tangan dibawah ini Kepala Sekolah Menengah Kejuruan (SMK) Muhammadiyah Pagar Alam menerangkan bahwa :
A18: Dasar :
A19: 1. Undang-undang Republik Indonesia Nomor 20 Tahun 2003 tentang sistem Pendidikan Nasional (Lembaran Negara Tahun 2003 Nomor 78, Tambahan Lembaran Negara Nomor 4301);
A20: 2. Peraturan Pemerintah Nomor 19 Tahun 2005 tentang Standar Nasional Pendidikan (Lembaran Negara Tahun 2005 Nomor 41, Tambahan Lembaran Negara Nomor 4469);
A21: 3. Peraturan Menteri Pendidikan, Kebudayaan, Riset, dan Teknologi Nomor 21 Tahun 2022 tentang Standar Penilaian Pendidikan pada Pendidikan Anak Usia Dini, Jenjang Pendidikan Dasar, dan Jenjang Pendidikan Menengah;
A22: 4. Peraturan Menteri Pendidikan, Kebudayaan, Riset, dan Teknologi Nomor 21 Tahun 2022, Pasal 9 Perihal Penilaian hasil belajar Peserta Didik dengan prosedur sebagaimana dimaksud dalam Pasal 3 sampai dengan Pasal 8 berbentuk (a.) Penilaian formatif dan (1) huruf a bertujuan untuk memantau dan memperbaiki proses pembelajaran serta mengevaluasi pencapaian(b)Penilaian sumatif, Penilaian formatif sebagaimana dimaksud pada ayat tujuan pembelajaran, Penilaian sumatif pada jenjang pendidikan dasar dan jenjang pendidikan menengah sebagaimana dimaksud pada ayat (3) bertujuan untuk menilai pencapaian hasil belajar Peserta Didik sebagai dasar penentuan kenaikan kelas; dan kelulusan dari Satuan Pendidikan;
A23: 5. Peraturan Menteri Pendidikan, Kebudayaan, Riset, dan Teknologi Nomor 21 Tahun 2022, Pasal 11 Perihal Satuan Pendidikan menetapkan mekanisme penentuan kenaikan kelas dan kelulusan dari Satuan Pendidikan berdasarkan pedoman yang ditetapkan oleh kepala unit utama yang membidangi kurikulum dan asesmen;
A24: 6. Hasil Rapat Kelulusan Dewan Guru SMK Muhammadiyah Kota Pagar Alam Tanggal 3 Mei 2025;
A25: Memutuskan :
A27: Nama | D27: : | E27: =VLOOKUP($AC$1,PENGUMUMAN!$A$15:$I$320,4,0) -> SHELLA RAHMA SAPUTRI | L27: Nama | O27: : | P27: =VLOOKUP(AC13,PENGUMUMAN!A15:I320,5,0) -> #N/A
A28: NISN | D28: : | E28: =VLOOKUP($AC$1,PENGUMUMAN!$A$15:$I$320,3,0) -> 0069321190 | L28: NISN | O28: : | P28: =VLOOKUP($AC$13,PENGUMUMAN!$A$15:$I$323,3,0) -> #N/A
A29: NPSN | D29: : | E29: 10604624 | L29: NPSN | O29: : | P29: 10604624
A30: PROGRAM KEAHLIAN | D30: : | E30: =VLOOKUP($AC$1,PENGUMUMAN!$A$15:$I$320,8,0) -> MANAJEMEN PERKANTORAN DAN LAYANAN BISNIS | L30: PROGRAM KEAHLIAN | O30: : | P30: =VLOOKUP($AC$13,PENGUMUMAN!$A$15:$I$323,9,0) -> #N/A
A31: Dinyatakan
A36: Kepada Peserta Didik yang dinyatakan lulus berhak memperoleh Ijazah, Keputusan ini mulai berlaku sejak tanggal ditetapkan dan apabila dikemudian hari ternyata terdapat kekeliruan dalam penetapan ini akan dilakukan perbaikan sebagaimana mestinya.
A37: Demikian Pengumuman kelulusan ini kami sampaikan, atas perhatian diucapkan terimakasih.
I39: Pagaralam, 05 Mei 2025 | S39: Pagaralam, 06 Mei 2024
I40: Kepala Sekolah, | S40: Kepala Sekolah,
I46: CANDRALIANSYAH,S.Pd,.M.Pd. | S46: CANDRALIANSYAH,S.Pd,.M.Pd.
I47: NBM. 1027215 | S47: NBM. 1027215
L49: Catatan : Dalam berurusan ke Sekolah, diharapkan memakai pakaian Sekolah lengkap tanpa corat-coretan.
A52: Catatan : Dalam berurusan ke sekolah, diwajibkan memakai pakaian Sekolah lengkap tanpa corat-coretan.

Sheet DEPAN (2)
A1: MAJELIS PENDIDIKAN DASAR DAN MENENGAH | M1: MAJELIS PENDIDIKAN DASAR DAN MENENGAH | AD1: 168
A2: PIMPINAN DAERAH MUHAMMADIYAH PAGAR ALAM | M2: PIMPINAN DAERAH MUHAMMADIYAH PAGAR ALAM
A3: SMK MUHAMMADIYAH PAGAR ALAM | M3: SMK MUHAMMADIYAH PAGAR ALAM
A4: KOMPETENSI KEAHLIAN : AKUNTANSI DAN KEUANGAN LEMBAGA | M4: KOMPETENSI KEAHLIAN : AKUNTANSI DAN KEUANGAN LEMBAGA
A5: OTOMATISASI TATA KELOLA PERKANTORAN, MULTIMEDIA, TEKNIK KOMPUTER JARINGAN | M5: OTOMATISASI TATA KELOLA PERKANTORAN, MULTIMEDIA, TEKNIK KOMPUTER JARINGAN
A6: TEKNIK DAN BISNIS SEPEDA MOTOR, FARMASI KLINIS DAN KOMUNITAS | M6: TEKNIK DAN BISNIS SEPEDA MOTOR, FARMASI KLINIS DAN KOMUNITAS
A7: TERAKREDITASI | M7: TERAKREDITASI
A8: Jalan Kombes H. Umar No. 1123 Kota Pagaralam–Sumatera Selatan Telp/Faks ( 0730 ) 624223 | M8: Jalan Kombes H. Umar No. 1123 Kota Pagaralam–Sumatera Selatan Telp/Faks ( 0730 ) 624223
A9: Pos-El : smkmuhpagaralam@yahoo.co.id | M9: Pos-El : smkmuhpagaralam@yahoo.co.id
AD12: =AD1+1 -> 169
A13: SURAT KETERANGAN LULUS | M13: SURAT KETERANGAN LULUS
A14: Nomor : 2054 /III.4.AU.SMKM/F/2023 | M14: Nomor : 2054 /III.4.AU.SMKM/F/2023
A16: Yang bertanda tangan dibawah ini Kepala Sekolah Menengah Kejuruan (SMK) Muhammadiyah Pagar Alam menerangkan bahwa : | M16: Yang bertanda tangan dibawah ini Kepala Sekolah Menengah Kejuruan (SMK) Muhammadiyah Pagar Alam menerangkan bahwa :
A17: Nama | D17: : | E17: =VLOOKUP($AD$1,PENGUMUMAN!A15:I320,5,0) -> PAGAR ALAM, 11 MARET 2008 | M17: Nama | P17: : | Q17: =VLOOKUP(AD12,PENGUMUMAN!A15:I320,5,0) -> LUBUK BUNTAK, 20 SEPTEMBER 2007
A19: NISN | D19: : | E19: =VLOOKUP($AD$12,PENGUMUMAN!$A$15:$I$320,3,0) -> 0073639562 | M19: NISN | P19: : | Q19: =VLOOKUP($AD$1,PENGUMUMAN!$A$15:$I$323,3,0) -> 0082674771
A21: NPSN | D21: : | E21: 10604624 | M21: NPSN | P21: : | Q21: 10604624
A22: Program Keahlian | D22: : | E22: =VLOOKUP($AD$12,PENGUMUMAN!$A$15:$I$323,10,0) -> #REF! | M22: Program Keahlian | P22: : | Q22: =VLOOKUP($AD$1,PENGUMUMAN!$A$15:$I$323,10,0) -> #REF!
A24: Berdasarkan Keputusan Rapat Dewan Guru dan Hasil Nilai Ujian Satuan Pendidikan (USP) Tahun Pelajaran 2022/2023, maka siswa tersebut diatas dinyatakan | M24: Berdasarkan Keputusan Rapat Dewan Guru dan Hasil Nilai Ujian Satuan Pendidikan (USP) Tahun Pelajaran 2022/2023, maka siswa tersebut diatas dinyatakan
A30: Demikian Surat Keterangan ini dibuat untuk dapat dipergunakan sebagaimana mestinya. | M30: Demikian Surat Keterangan ini dibuat untuk dapat dipergunakan sebagaimana mestinya.
G33: Pagaralam, 06 Mei 2024 | T33: Pagaralam, 05 Mei 2023
G34: Kepala Sekolah, | T34: Kepala Sekolah,
G38: CANDRALIANSYAH,S.Pd,.M.Pd. | T38: CANDRALIANSYAH,S.Pd,.M.Pd.
G39: NBM. 1027215 | T39: NBM. 1027215
A41: Catatan : Dalam berurusan ke Sekolah, diharapkan memakai pakaian Sekolah lengkap tanpa corat-coretan. | M41: Catatan : Dalam berurusan ke Sekolah, diharapkan memakai pakaian Sekolah lengkap tanpa corat-coretan.

Sheet TT SKL
A1: DAFTAR SERAH TERIMA SURAT KETERANGAN LULUS (SKL)
A2: SMK MUHAMMADIYAH PAGAR ALAM
A3: TAHUN PELAJARAN 2021/2022
A5: NO | B5: NIS | C5: NISN | D5: N A M A S I S W A | E5: KELAS | F5: PARAF
A7: 1 | B7: 5503 | C7: 0050353235 | D7: AAS SITI HASANA | E7: AKUNTANSI DAN KEUANGAN LEMBAGA 1 | F7: 1 …………
A8: =A7+1 -> 2 | B8: 5504 | C8: 0045216454 | D8: AGUNG SANJAYA | E8: AKUNTANSI DAN KEUANGAN LEMBAGA 1 | F8: 2 …………
A9: =A8+1 -> 3 | B9: 5505 | C9: 0040938093 | D9: AISYAH DWI FORTUNA | E9: AKUNTANSI DAN KEUANGAN LEMBAGA 1 | F9: 3 …………
A10: =A9+1 -> 4 | B10: 5506 | C10: 0043186302 | D10: ALEX BAMBANG SUSILO | E10: AKUNTANSI DAN KEUANGAN LEMBAGA 1 | F10: 4 …………
A11: =A10+1 -> 5 | B11: 5507 | C11: 0049864015 | D11: ANGGUN LESTARI | E11: AKUNTANSI DAN KEUANGAN LEMBAGA 1 | F11: 5 …………
A12: =A11+1 -> 6 | B12: 5508 | C12: 0042873760 | D12: APRIANSEN | E12: AKUNTANSI DAN KEUANGAN LEMBAGA 1 | F12: 6 …………
A13: =A12+1 -> 7 | B13: 5509 | C13: 0042814320 | D13: BULAN SARI | E13: AKUNTANSI DAN KEUANGAN LEMBAGA 1 | F13: 7 …………
A14: =A13+1 -> 8 | B14: 5510 | C14: 0050315247 | D14: CENDI FAJRIANI | E14: AKUNTANSI DAN KEUANGAN LEMBAGA 1 | F14: 8 …………
A15: =A14+1 -> 9 | B15: 5511 | C15: 0041093082 | D15: DAVIN RIYAN SAPUTRA | E15: AKUNTANSI DAN KEUANGAN LEMBAGA 1 | F15: 9 …………
A16: =A15+1 -> 10 | B16: 5512 | C16: 0045161134 | D16: DINDA VIANDRA PUTRI | E16: AKUNTANSI DAN KEUANGAN LEMBAGA 1 | F16: 10 …………
A17: =A16+1 -> 11 | B17: 5513 | C17: 0031832597 | D17: ERLANGGA PRASETIA BAKTI | E17: AKUNTANSI DAN KEUANGAN LEMBAGA 1 | F17: 11 …………
A18: =A17+1 -> 12 | B18: 5514 | C18: 0050376683 | D18: FERRI SUHARMAN | E18: AKUNTANSI DAN KEUANGAN LEMBAGA 1 | F18: 12 …………
A19: =A18+1 -> 13 | B19: 5515 | C19: 0040892199 | D19: HERU FERIANSYAH | E19: AKUNTANSI DAN KEUANGAN LEMBAGA 1 | F19: 13 …………
... A371: =A370+1 -> 365 | B371: 5502 | C371: 0043492383 | D371: YULIANAH | E371: FARMASI KLINIS DAN KOMUNITAS | F371: 365 …………
E373: Mengetahui
E374: Kepala Sekolah
E378: Candraliansyah, S.Pd,.M.Pd
E379: NBM 1027215

Sheet TT SKL (2)
A1: DAFTAR SERAH TERIMA SURAT KETERANGAN LULUS (SKL)
A2: SMK MUHAMMADIYAH PAGAR ALAM
A3: TAHUN PELAJARAN 2021/2022
A5: NO | B5: NIS | C5: NISN | D5: N A M A S I S W A | E5: KELAS | F5: PARAF
A7: 1 | B7: 5503 | C7: 0050353235 | D7: AAS SITI HASANA | E7: AKUNTANSI DAN KEUANGAN LEMBAGA 1 | F7: 1 …………
A8: =A7+1 -> 2 | B8: 5504 | C8: 0045216454 | D8: AGUNG SANJAYA | E8: AKUNTANSI DAN KEUANGAN LEMBAGA 1 | F8: 2 …………
A9: =A8+1 -> 3 | B9: 5505 | C9: 0040938093 | D9: AISYAH DWI FORTUNA | E9: AKUNTANSI DAN KEUANGAN LEMBAGA 1 | F9: 3 …………
A10: =A9+1 -> 4 | B10: 5506 | C10: 0043186302 | D10: ALEX BAMBANG SUSILO | E10: AKUNTANSI DAN KEUANGAN LEMBAGA 1 | F10: 4 …………
A11: =A10+1 -> 5 | B11: 5507 | C11: 0049864015 | D11: ANGGUN LESTARI | E11: AKUNTANSI DAN KEUANGAN LEMBAGA 1 | F11: 5 …………
A12: =A11+1 -> 6 | B12: 5508 | C12: 0042873760 | D12: APRIANSEN | E12: AKUNTANSI DAN KEUANGAN LEMBAGA 1 | F12: 6 …………
A13: =A12+1 -> 7 | B13: 5509 | C13: 0042814320 | D13: BULAN SARI | E13: AKUNTANSI DAN KEUANGAN LEMBAGA 1 | F13: 7 …………
A14: =A13+1 -> 8 | B14: 5510 | C14: 0050315247 | D14: CENDI FAJRIANI | E14: AKUNTANSI DAN KEUANGAN LEMBAGA 1 | F14: 8 …………
A15: =A14+1 -> 9 | B15: 5511 | C15: 0041093082 | D15: DAVIN RIYAN SAPUTRA | E15: AKUNTANSI DAN KEUANGAN LEMBAGA 1 | F15: 9 …………
A16: =A15+1 -> 10 | B16: 5512 | C16: 0045161134 | D16: DINDA VIANDRA PUTRI | E16: AKUNTANSI DAN KEUANGAN LEMBAGA 1 | F16: 10 …………
A17: =A16+1 -> 11 | B17: 5513 | C17: 0031832597 | D17: ERLANGGA PRASETIA BAKTI | E17: AKUNTANSI DAN KEUANGAN LEMBAGA 1 | F17: 11 …………
A18: =A17+1 -> 12 | B18: 5514 | C18: 0050376683 | D18: FERRI SUHARMAN | E18: AKUNTANSI DAN KEUANGAN LEMBAGA 1 | F18: 12 …………
A19: =A18+1 -> 13 | B19: 5515 | C19: 0040892199 | D19: HERU FERIANSYAH | E19: AKUNTANSI DAN KEUANGAN LEMBAGA 1 | F19: 13 …………
... A30: =A29+1 -> 24 | B30: 5527 | C30: 0050938184 | D30: SOLINIA | E30: AKUNTANSI DAN KEUANGAN LEMBAGA 1 | F30: 24 …………
A31: 1 | B31: 5528 | C31: 0040856445 | D31: ABELLA MAYANG SARI | E31: AKUNTANSI DAN KEUANGAN LEMBAGA 2 | F31: 1 …………
A32: =A31+1 -> 2 | B32: 5529 | C32: 0020490351 | D32: ANTI | E32: AKUNTANSI DAN KEUANGAN LEMBAGA 2 | F32: 2 …………
A33: =A32+1 -> 3 | B33: 5530 | C33: 0040398293 | D33: BUNGA SEFTANIA | E33: AKUNTANSI DAN KEUANGAN LEMBAGA 2 | F33: 3 …………
A34: =A33+1 -> 4 | B34: 5531 | C34: 0050350030 | D34: DELLA TRI DIYANTI | E34: AKUNTANSI DAN KEUANGAN LEMBAGA 2 | F34: 4 …………
A35: =A34+1 -> 5 | B35: 5532 | C35: 0040435597 | D35: DILLA ANGGELA | E35: AKUNTANSI DAN KEUANGAN LEMBAGA 2 | F35: 5 …………
A36: =A35+1 -> 6 | B36: 5533 | C36: 0050333189 | D36: GADIS RAMILA INDAH | E36: AKUNTANSI DAN KEUANGAN LEMBAGA 2 | F36: 6 …………
A37: =A36+1 -> 7 | B37: 5534 | C37: 0050334997 | D37: HERA DWI NADILA SARY | E37: AKUNTANSI DAN KEUANGAN LEMBAGA 2 | F37: 7 …………
A38: =A37+1 -> 8 | B38: 5536 | C38: 0040892281 | D38: MEYSA DEVA NURJANNAH | E38: AKUNTANSI DAN KEUANGAN LEMBAGA 2 | F38: 8 …………
A39: =A38+1 -> 9 | B39: 5537 | C39: 0047819960 | D39: NADIA TANTRI UTAMI | E39: AKUNTANSI DAN KEUANGAN LEMBAGA 2 | F39: 9 …………
A40: =A39+1 -> 10 | B40: 5538 | C40: 0041282485 | D40: NANDA NABILA | E40: AKUNTANSI DAN KEUANGAN LEMBAGA 2 | F40: 10 …………
A41: =A40+1 -> 11 | B41: 5539 | C41: 0039236427 | D41: NANDES ALDI PIRNANDO | E41: AKUNTANSI DAN KEUANGAN LEMBAGA 2 | F41: 11 …………
A42: =A41+1 -> 12 | B42: 5540 | C42: 0036817249 | D42: NENTI PENIAWATI | E42: AKUNTANSI DAN KEUANGAN LEMBAGA 2 | F42: 12 …………
A43: =A42+1 -> 13 | B43: 5541 | C43: 0040498952 | D43: NORA LEZA | E43: AKUNTANSI DAN KEUANGAN LEMBAGA 2 | F43: 13 …………
... A56: =A55+1 -> 26 | B56: 5555 | C56: 0031613229 | D56: YULIANA | E56: AKUNTANSI DAN KEUANGAN LEMBAGA 2 | F56: 26 …………
A57: 1 | B57: 5556 | C57: 0041133753 | D57: ALPINDO | E57: OTOMATISASI DAN TATA KELOLA PERKANTORAN 1 | F57: 1 …………
A58: =A57+1 -> 2 | B58: 5557 | C58: 0040430877 | D58: ANGGUN HUTRI AGUSTIN | E58: OTOMATISASI DAN TATA KELOLA PERKANTORAN 1 | F58: 2 …………
A59: =A58+1 -> 3 | B59: 5558 | C59: 0044035392 | D59: ANISA ABELIA | E59: OTOMATISASI DAN TATA KELOLA PERKANTORAN 1 | F59: 3 …………
A60: =A59+1 -> 4 | B60: 5559 | C60: 0037209604 | D60: ARDIANSYAH | E60: OTOMATISASI DAN TATA KELOLA PERKANTORAN 1 | F60: 4 …………
A61: =A60+1 -> 5 | B61: 5560 | C61: 0045425128 | D61: ARIE MARSELINO STEVANI | E61: OTOMATISASI DAN TATA KELOLA PERKANTORAN 1 | F61: 5 …………
A62: =A61+1 -> 6 | B62: 5561 | C62: 0043594557 | D62: AYU JULIA WINDARI | E62: OTOMATISASI DAN TATA KELOLA PERKANTORAN 1 | F62: 6 …………
A63: =A62+1 -> 7 | B63: 5562 | C63: 0022189057 | D63: BAROKAH ALAM SURYANI | E63: OTOMATISASI DAN TATA KELOLA PERKANTORAN 1 | F63: 7 …………
A64: =A63+1 -> 8 | B64: 5563 | C64: 0041614073 | D64: BELINDA DEA MONIKA | E64: OTOMATISASI DAN TATA KELOLA PERKANTORAN 1 | F64: 8 …………
...

Sheet AP (2)
A1: REKAPITULASI NOMOR PESERTA UJIAN
A2: PROPINSI SUMATERA SELATAN
A4: Nama Sekolah | C4: : SMK Muhammadiyah Pagaralam | N4: Tahun Pelajaran | O4: : 2021/2022
A5: S t a t u s | C5: : Terakreditasi | N5: K e l o m p o k | O5: : BISNIS MANAJEMEN
A6: A l a m a t | C6: : Jl. Kombes H.Umar No. 1123 Telp/Fax. (0730) 624223 Kota Pagaralam | N6: Program Keahlian | O6: : AKUNTANSI
A7: Catatan | C7: : (*) Coret yang tidak perlu
A9: NO | B9: NIS | C9: NISN | D9: NOMOR UJIAN | K9: N A M A S I S W A | L9: TEMPAT TANGGAL LAHIR | M9: L/P | N9: NAMA ORANG TUA | O9: ALAMAT | P9: KETERANGAN
A11: 1 | B11: 5503 | C11: 0050353235 | K11: AAS SITI HASANA | L11: BANTUNAN, 01 MARET 2005 | M11: P | N11: TANYOK | O11: BANTUNAN | P11: AKUNTANSI
A12: =A11+1 -> 2 | B12: 5504 | C12: 0045216454 | K12: AGUNG SANJAYA | L12: CURUP-CAWANG LAMA, 06 AGUSTUS 2004 | M12: L | N12: SUHADI | O12: MUARA SIBAN | P12: AKUNTANSI
A13: =A12+1 -> 3 | B13: 5505 | C13: 0040938093 | K13: AISYAH DWI FORTUNA | L13: MUARA JAUH, 17 AGUSTUS 2004 | M13: P | N13: SUHERI | O13: MUARA JAUH | P13: AKUNTANSI
A14: =A13+1 -> 4 | B14: 5506 | C14: 0043186302 | K14: ALEX BAMBANG SUSILO | L14: ACEH, 6 JUNI 2004 | M14: L | N14: ILHAM NASARUDIN | O14: ACEH | P14: AKUNTANSI
A15: =A14+1 -> 5 | B15: 5507 | C15: 0049864015 | K15: ANGGUN LESTARI | L15: PAGARALAM, 09 MEI 2004 | M15: P | N15: ARIFIN | O15: KEBAN AGUNG BARU | P15: AKUNTANSI
A16: =A15+1 -> 6 | B16: 5508 | C16: 0042873760 | K16: APRIANSEN | L16: PAGARALAM, 19 APRIL 2004 | M16: L | N16: DADANG SAPUTRA | O16: GUNUNG GENDANG | P16: AKUNTANSI
A17: =A16+1 -> 7 | B17: 5509 | C17: 0042814320 | K17: BULAN SARI | L17: SUNGAI BATANG, 24 APRIL 2004 | M17: P | N17: ZAN AFNAN | O17: JL. PELTU MENALIS PAGARALAM | P17: AKUNTANSI
A18: =A17+1 -> 8 | B18: 5510 | C18: 0050315247 | K18: CENDI FAJRIANI | L18: SADAN, 26 JANUARI 2005 | M18: P | N18: DENI EFENDI | O18: SADAN | P18: AKUNTANSI
A19: =A18+1 -> 9 | B19: 5511 | C19: 0041093082 | K19: DAVIN RIYAN SAPUTRA | L19: PAGARALAM, 24 JANUARI 2004 | M19: L | N19: MUJI | O19: MEKAR ALAM | P19: AKUNTANSI
A20: =A19+1 -> 10 | B20: 5512 | C20: 0045161134 | K20: DINDA VIANDRA PUTRI | L20: PAGARALAM, 09 SEPTEMBER 2004 | M20: P | N20: SLAMET RAHAYU | O20: DUSPA | P20: AKUNTANSI
A21: =A20+1 -> 11 | B21: 5513 | C21: 0031832597 | K21: ERLANGGA PRASETIA BAKTI | L21: SIMPANG III PUMU, 6 MARET 2003 | M21: L | N21: MUSMULYADI | O21: PEMATANG BANGO | P21: AKUNTANSI
A22: =A21+1 -> 12 | B22: 5514 | C22: 0050376683 | K22: FERRI SUHARMAN | L22: PAGARALAM, 18 MEI 2005 | M22: L | N22: EVI SUHARMAN | O22: PERUM PERANDONAN | P22: AKUNTANSI
A23: =A22+1 -> 13 | B23: 5515 | C23: 0040892199 | K23: HERU FERIANSYAH | L23: SIDOREJO, 9 JUNI 2004 | M23: L | N23: JULIANTO | O23: NENDAGUNG | P23: AKUNTANSI
... A379: =A378+1 -> 369 | B379: 5502 | C379: 0043492383 | K379: YULIANAH | L379: BEKASI, 27 JULI 2004 | M379: P | N379: ICA ARIPI | O379: NEGERI KAYA | P379: FARMASI

Sheet BLK
A1: KOMPETENSI KEAHLIAN OTOMATISASI TATA KELOLA PERKANTORAN
A2: KLASTER PENGELOLAAN DOKUMEN PERKANTORAN | P2: 1
A4: DAFTAR UNIT KOMPETENSI
A6: No. | B6: Kode Unit Kompetensi | C6: Judul Unit Kompetensi
A8: 1. | B8: N.821100.001.02 | C8: Menagani Penerimaan / Pengiriman Surat/ Dokumen
A10: 2. | B10: N.821100.002.02 | C10: Mengatur Penggandaan/ Pengumpulan Surat/ Dokumen
A12: 3. | B12: N.821100.033.02 | C12: Membaca Dalam Bahasa Inggris pada Tingkat Operasional Dasar
A14: 4. | B14: N.821100.053.02 | C14: Memproduksi Dokumen Di Komputer
A16: 5. | B16: N.821100.057.02 | C16: Mengoperasikan Aplikasi Perangkat Lunak
A18: 6. | B18: N.821100.059.02 | C18: Menggunakan Peralatan dan Sumber Daya Kerja
A20: 7. | B20: N.821100.073.02 | C20: Mengelola Arsip
A22: 8. | B22: N.821100.075.02 | C22: Menerapkan Prosedur K3 Perkantoran
A24: 9. | B24: N.821100.076.02 | C24: Meminimalisir Pencurian
A26: 10. | B26: N.821100.003.02 | C26: Menciptakan Dokumen/ Lembar Kerja Sederhana
A28: 11. | B28: N.821100.034.02 | C28: Menulis dalam Bahasa Inggris Pada Tingkat Operasional Dasar
... A36: 15. | B36: N.821100.061.02 | C36: Menggunakan Peralatan Komunikasi
C47: =VLOOKUP($P$2,PENGUMUMAN!A15:E70,4,0) -> ALDIAN MUSTOPA
C48: Tanda Tangan Pemilik

Sheet Sheet1
A4: No. | B4: Kode Kompetensi | C4: Judul Unit Kompetensi
A5: 1. | C5: Menagani Penerimaan / Pengiriman Surat/ Dokumen
A6: 2. | C6: Mengatur Penggandaan/ Pengumpulan
A7: 3. | C7: Membaca Dalam Bahasa Inggris pada Tingkat Operasional Dasar
A8: 4. | C8: Memproduksi Dokumen Di Komputer
A9: 5. | C9: Mengoperasikan Aplikasi Perangkat Lunak
A10: 6. | C10: Menggunakan Peralatan dan Sumber Daya Kerja
A11: 7. | C11: Mengelola Arsip
A12: 8. | C12: Menerapkan Prosedur K3 Perkantoran
A13: 9. | C13: Meminimalisir Pencurian
A14: 10. | C14: Menciptakan Dokumen/ Lembar Kerja Sederhana
A15: 11. | C15: Menulis dalam Bahasa Inggris Pada Tingkat Operasional Dasar
A16: 12. | C16: Memelihara Data/ File di Komputer
... A19: 15. | C19: Menggunakan Peralatan Komunikasi

Sheet Sheet2
A1: NOMOR | C1: NAMA SISWA
A5: 1 | C5: AGUNG HASANA APRIADI
A6: 2 | C6: AGUS DERMAWAN ICHSAN
A7: 3 | C7: ANDINY PUSPA MELATI
A8: 4 | C8: ANGGO SUKURILLA
A9: 5 | C9: ASTI JULITA
A10: 6 | C10: DEVI PERMATA SARI
A11: 7 | C11: ELISA LARASTIANI
A12: 8 | C12: EVELIN VINKA OKTALISA
A13: 9 | C13: FAJAR GUSTIGA
A14: 10 | C14: FEBRI ANGGARA
A15: 11 | C15: IVAN RINALDI
... A33: 29 | C33: YUPITA MAYA SARI

Sheet Sheet3
A3: NOMOR | C3: NAMA SISWA
A7: 1 | C7: CITRA RENDESI
A8: 2 | C8: DIDI FIRWAN
A9: 3 | C9: ELA SURYANI
A10: 4 | C10: ENO YUNIAR SAFITRI
A11: 5 | C11: EPAN KURNIAWAN
A12: 6 | C12: ERA MAYA SARI
A13: 7 | C13: FEBRIANTIKA
A14: 8 | C14: ILIN TITI RAHAYU
A15: 9 | C15: INDAH SUCI MAYANG SARI
A16: 10 | C16: KEMAS IBRAHIM
A17: 11 | C17: KURNIA
... A34: 28 | C34: YULI ANDRIANI

Sheet Sheet4
G13: Nomor | H13: : 2511/III.4.AU.SMK.M/F/2024
