Workbook
Name _min1: #REF!
Name _min1: #REF!
Name _min1: #REF!
Name _min1: #REF!
Name _min1: #REF!
Name _min1: #REF!
Name _min10: #REF!
Name _min10: #REF!
Name _min10: #REF!
Name _min10: #REF!
Name _min10: #REF!
Name _min10: #REF!
Name _min11: #REF!
Name _min11: #REF!
Name _min11: #REF!
Name _min11: #REF!
Name _min11: #REF!
Name _min11: #REF!
Name _min2: #REF!
Name _min2: #REF!
Name _min2: #REF!
Name _min2: #REF!
Name _min2: #REF!
Name _min2: #REF!
Name _min3: #REF!
Name _min3: #REF!
Name _min3: #REF!
Name _min3: #REF!
Name _min3: #REF!
Name _min3: #REF!
Name _min4: #REF!
Name _min4: #REF!
Name _min4: #REF!
Name _min4: #REF!
Name _min4: #REF!
Name _min4: #REF!
Name _min5: #REF!
Name _min5: #REF!
Name _min5: #REF!
Name _min5: #REF!
Name _min5: #REF!
Name _min5: #REF!
Name _min6: #REF!
Name _min6: #REF!
Name _min6: #REF!
Name _min6: #REF!
Name _min6: #REF!
Name _min6: #REF!
Name _min7: #REF!
Name _min7: #REF!
Name _min7: #REF!
Name _min7: #REF!
Name _min7: #REF!
Name _min7: #REF!
Name _min8: #REF!
Name _min8: #REF!
Name _min8: #REF!
Name _min8: #REF!
Name _min8: #REF!
Name _min8: #REF!

Sheet PENGUMUMAN
A1: PENGUMUMAN KELULUSAN SISWA/I
A2: SMK MUHAMMADIYAH KOTA PAGAR ALAM
A3: TAHUN PELAJARAN 2024/2025
A7: Berdasarkan Keputusan Rapat Dewan Guru dan Hasil Ujian Satuan Pendidikan Tahun Pelajaran 2024/2025, maka siswa SMK Muhammadiyah Kota Pagar Alam dinyatakan LULUS 100%, dengan daftar nama siswa terlampir :
A8: HIMBAWAN : | D8: 1. Tidak melakukan konvoi/arak-arakan di jalan yang bisa merugikan diri sendiri dan orang lain.
D9: 2. Tidak melakukan aksi corat coret pakaian ataupun fasilitas umum lainnya, sebaliknya jika ada pakaian/seragam yang masih layak agar diberikan kepada adik kelas yang kurang mampu.
D10: 3. Apabaila ditemukan siswa yang corat coret, konvoi, atau kegaduhan lainnya, maka sekolah tidak bertanggung jawab atas semua pelangaran yang dilakukan.
D11: 4. Orang Tua/Wali Siswa Berkerjasama dengan pihak sekolah untuk mengawasi, mentertibkan aksi Corat-Coret, Konvoi, kegiatan kegaduhan lainnya yang dilakukan oleh siswa/i.
A13: NO | B13: NIS | C13: NISN | D13: N A M A S I S W A | E13: TEMPAT TANGGAL LAHIR | F13: L/P | G13: NAMA ORANG TUA | H13: PROGRAM KEAHLIAN | I13: KETERANGAN
A15: 1 | B15: 6414 | C15: 0065798420 | D15: ALDIAN MUSTOPA | E15: NANTIGIRI, 28 DESEMBER 2006 | F15: L | G15: SULHADI | H15: TEKNIK SEPEDA MOTOR | I15: LULUS
A16: =A15+1 -> 2 | B16: 6415 | C16: 0061726912 | D16: ALIFIAN TABAH DEWANGGA PUTRA | E16: GUNUNG KIDUL, 02 JUNI 2006 | F16: L | G16: IDIAL AKBAR | H16: TEKNIK SEPEDA MOTOR | I16: LULUS
A17: =A16+1 -> 3 | B17: 6416 | C17: 0084705671 | D17: AMANDA ULIA SARI | E17: KARANG CAYA, 26 JANUARI 2008 | F17: P | G17: YULIUS | H17: TEKNIK SEPEDA MOTOR | I17: LULUS
A18: =A17+1 -> 4 | B18: 6417 | C18: 0074233894 | D18: BERLIAN ALPAS. S | E18: KOTA RAYA LEMBAK, 29 JUNI 2007 | F18: L | G18: ERVI ADI | H18: TEKNIK SEPEDA MOTOR | I18: LULUS
A19: =A18+1 -> 5 | B19: 6418 | C19: 0077319274 | D19: BINTANG PRAJA DINATA | E19: PAGARALAM, 19 MEI 2007 | F19: L | G19: MUHAMMAD RIZALI | H19: TEKNIK SEPEDA MOTOR | I19: LULUS
A20: =A19+1 -> 6 | B20: 6419 | C20: 0079342190 | D20: BOGI ALZA ANGGARA PUTRA | E20: PAGAR ALAM, 27 MEI 2007 | F20: L | G20: M. YUAN KASTRA | H20: TEKNIK SEPEDA MOTOR | I20: LULUS
A21: =A20+1 -> 7 | B21: 6420 | C21: 0072564426 | D21: CHOKY ANDRIANO | E21: LAHAT, 18 NOPEMBER 2007 | F21: L | G21: WINDI HABIBI, S.Pd | H21: TEKNIK SEPEDA MOTOR | I21: LULUS
A22: =A21+1 -> 8 | B22: 6421 | C22: 0077991280 | D22: DHIO RIZA PAMUNGKAS | E22: PAGAR ALAM, 08 AGUSTUS 2007 | F22: L | G22: AMIR HAMZAH | H22: TEKNIK SEPEDA MOTOR | I22: LULUS
A23: =A22+1 -> 9 | B23: 6422 | C23: 0074224061 | D23: DIMAS ADREAN | E23: PAGAR ALAM, 04 MEI 2007 | F23: L | G23: PITERMAN | H23: TEKNIK SEPEDA MOTOR | I23: LULUS
A24: =A23+1 -> 10 | B24: 6423 | C24: 0083857570 | D24: DWI MEISYAH ARIANI | E24: SUKARAJA, 12 MEI 2007 | F24: P | G24: ASWARI | H24: TEKNIK SEPEDA MOTOR | I24: LULUS
A25: =A24+1 -> 11 | B25: 6424 | C25: 0071914508 | D25: EDO ANJA SAPUTRA | E25: PAGARALAM, 05 JULI 2007 | F25: L | G25: DAHRI ISKANDAR | H25: TEKNIK SEPEDA MOTOR | I25: LULUS
A26: =A25+1 -> 12 | B26: 6425 | C26: 0077848023 | D26: ERIK AFRILIAN PRATAMA | E26: PAJAR BULAN, 12 APRIL 2007 | F26: L | G26: HERWAN TRIANTO | H26: TEKNIK SEPEDA MOTOR | I26: LULUS
A27: =A26+1 -> 13 | B27: 6427 | C27: 0073111325 | D27: GERY ANDRIANSYAH | E27: PAGAR ALAM, 25 APRIL 2007 | F27: L | G27: HERLIN | H27: TEKNIK SEPEDA MOTOR | I27: LULUS
... A51: =A50+1 -> 37 | B51: 6512 | C51: 0069451020 | D51: REHAN RAHMADANI | E51: PAGAR ALAM, 07 OKTOBER 2006 | F51: L | G51: HERIANTO | H51: TEKNIK SEPEDA MOTOR | I51: LULUS
A52: =A51+1 -> 38 | B52: 6786 | C52: 0089496749 | D52: PALYEN JASWASYA | E52: PALEMBANG, 10 APRIL 2008 | F52: L | G52: JUBARSIH | H52: TEKNIK SEPEDA MOTOR | I52: LULUS
A53: =A52+1 -> 39 | B53: 6451 | C53: 0072211749 | D53: AHMAD ALFAREZI | E53: PAGAR ALAM, 06 MEI 2007 | F53: L | G53: RUDI HARTONO | H53: TEKNIK SEPEDA MOTOR | I53: LULUS
A54: =A53+1 -> 40 | B54: 6453 | C54: 0077292876 | D54: AHMAD PARZA | E54: PAGAR ALAM, 18 NOVEMBER 2007 | F54: L | G54: PANHARUDIN | H54: TEKNIK SEPEDA MOTOR | I54: LULUS
A55: =A54+1 -> 41 | B55: 6454 | C55: 0076222903 | D55: ALIF RAHMAN | E55: PAGAR ALAM, 31 AGUSTUS 2007 | F55: L | G55: AWALUDIN | H55: TEKNIK SEPEDA MOTOR | I55: LULUS
A56: =A55+1 -> 42 | B56: 6455 | C56: 0088216835 | D56: ANDREAS MARTA | E56: DESA SAWAH, 22 MARET 2008 | F56: L | G56: SULAIMAN | H56: TEKNIK SEPEDA MOTOR | I56: LULUS
A57: =A56+1 -> 43 | B57: 6456 | C57: 0073367773 | D57: ARUM ABDILLAH | E57: PAGARALAM, 26 OKTOBER 2007 | F57: L | G57: WAGIMAN | H57: TEKNIK SEPEDA MOTOR | I57: LULUS
A58: =A57+1 -> 44 | B58: 6458 | C58: 0079932838 | D58: DAFFA AULIA RAYHAN | E58: PAGARALAM, 30 APRIL 2007 | F58: L | G58: WIDODO | H58: TEKNIK SEPEDA MOTOR | I58: LULUS
A59: =A58+1 -> 45 | B59: 6459 | C59: 0081407046 | D59: DAFFA DZAKY AR RAFFI | E59: TALANG DUKUN, 10 MEI 2008 | F59: L | G59: HAYADI | H59: TEKNIK SEPEDA MOTOR | I59: LULUS
A60: =A59+1 -> 46 | B60: 6460 | C60: 0072784269 | D60: DIDI UTOMO | E60: PAGARALAM, 16 MEI 2007 | F60: L | G60: SUNARTO | H60: TEKNIK SEPEDA MOTOR | I60: LULUS
A61: =A60+1 -> 47 | B61: 6464 | C61: 0075430783 | D61: HERDIAN MERZA AZZOHRI | E61: GURU AGUNG, 20 DESEMBER 2007 | F61: L | G61: MOHAMAD MIRHANSYAH | H61: TEKNIK SEPEDA MOTOR | I61: LULUS
A62: =A61+1 -> 48 | B62: 6466 | C62: 0079106794 | D62: MUHAMMAD BIMO PRAYOGA | E62: PAGAR ALAM, 15 JANUARI 2007 | F62: L | G62: MUHAMMAD SAYUDI | H62: TEKNIK SEPEDA MOTOR | I62: LULUS
A63: =A62+1 -> 49 | B63: 6467 | C63: 0065879089 | D63: MUHAMMAD NABIL AMMAR | E63: PAGARALAM, 11 OKTOBER 2006 | F63: L | G63: HUSNI | H63: TEKNIK SEPEDA MOTOR | I63: LULUS
A64: =A63+1 -> 50 | B64: 6470 | C64: 0073319211 | D64: M. AGUNG ALPA RISKI | E64: ACEH, 1 DESEMBER 2006 | F64: L | G64: MURSALIN | H64: TEKNIK SEPEDA MOTOR | I64: LULUS
... A132: =A131+1 -> 118 | B132: 6562 | C132: 0072615445 | D132: VERRA MARLEZAH | E132: PAGAR ALAM, 14 JUNI 2007 | F132: P | G132: MARDAN | H132: TEKNIK KOMPUTER JARINGAN | I132: LULUS
A133: =A132+1 -> 119 | B133: 6790 | C133: 0074311101 | D133: ADINDA JADMIN SUSILO | E133: PAGARALAM, 9 OKTOBER 2007 | F133: P | G133: EKO SUSILO | H133: TEKNIK KOMPUTER JARINGAN | I133: LULUS
A134: =A133+1 -> 120 | B134: 6563 | C134: 0078885813 | D134: AISYAH AFRILIA CAHYANI | E134: TANJUNG MENANG, 2 APRIL 2007 | F134: P | G134: ALMIHRUB | H134: DESAIN KOMUNIKASI VISUAL | I134: LULUS
A135: =A134+1 -> 121 | B135: 6564 | C135: 0075144465 | D135: ALEN MAHENDRA | E135: TERTAP, 8 APRIL 2007 | F135: L | G135: ALEX WAHYUDI | H135: DESAIN KOMUNIKASI VISUAL | I135: LULUS
A136: =A135+1 -> 122 | B136: 6565 | C136: 0084642464 | D136: AZHAR DIMAS | E136: PAGAR ALAM, 13 MARET 2008 | F136: L | G136: PARJONNO | H136: DESAIN KOMUNIKASI VISUAL | I136: LULUS
A137: =A136+1 -> 123 | B137: 6566 | C137: 0078317134 | D137: AZIS SAPUTRA | E137: PAGARALAM, 15 NOVEMBER 2007 | F137: L | G137: KARIM | H137: DESAIN KOMUNIKASI VISUAL | I137: LULUS
A138: =A137+1 -> 124 | B138: 6567 | C138: 0054248844 | D138: CALVIN | E138: PUPUT, 26 MARET 2005 | F138: L | G138: DARMAWANSYAH | H138: DESAIN KOMUNIKASI VISUAL | I138: LULUS
A139: =A138+1 -> 125 | B139: 6568 | C139: 0076148685 | D139: CANDA VELINDA | E139: PAGARALAM, 04 MEI 2007 | F139: P | G139: CANDRA DIANTO | H139: DESAIN KOMUNIKASI VISUAL | I139: LULUS
A140: =A139+1 -> 126 | B140: 6569 | C140: 0079844722 | D140: CANTIKA PERMATA SARI | E140: PAGAR ALAM, 08 OKTOBER 2007 | F140: P | G140: SUPRIONO | H140: DESAIN KOMUNIKASI VISUAL | I140: LULUS
A141: =A140+1 -> 127 | B141: 6570 | C141: 0076276369 | D141: CHILLA ANGGRAINI | E141: PAGAR ALAM, 22 NOVEMBER 2007 | F141: P | G141: SIRHANUDIN | H141: DESAIN KOMUNIKASI VISUAL | I141: LULUS
A142: =A141+1 -> 128 | B142: 6571 | C142: 0089276916 | D142: CYKHAL SABYLA | E142: PAGAR ALAM, 8 AGUSTUS 2008 | F142: P | G142: BELLY SAPUTRA | H142: DESAIN KOMUNIKASI VISUAL | I142: LULUS
A143: =A142+1 -> 129 | B143: 6572 | C143: 0077586695 | D143: DERA DANIYA | E143: PAGARALAM, 01 JANUARI 2007 | F143: P | G143: WAHADI | H143: DESAIN KOMUNIKASI VISUAL | I143: LULUS
A144: =A143+1 -> 130 | B144: 6573 | C144: 0066025266 | D144: DESRI AULIA | E144: PAGAR ALAM 6 DESEMBER 2006 | F144: P | G144: AGUS IRAWAN | H144: DESAIN KOMUNIKASI VISUAL | I144: LULUS
A145: =A144+1 -> 131 | B145: 6575 | C145: 0075002977 | D145: GITA MEDIAN TARI | E145: PAGAR ALAM, 05 APRIL 2007 | F145: P | G145: EVI EFRIADI | H145: DESAIN KOMUNIKASI VISUAL | I145: LULUS
... A319: =A318+1 -> 305 | B319: 6780 | C319: 0075078431 | D319: WIANI | E319: PAGAR ALAM, 08 AGUSTUS 2007 | F319: P | G319: JUSTIAN | H319: MANAJEMEN PERKANTORAN DAN LAYANAN BISNIS | I319: LULUS
A320: =A319+1 -> 306 | B320: 6972 | C320: 0067458661 | D320: NADZMULFAROH | E320: BENGKULU, 14 NOPEMBER 2006 | F320: P | G320: SUGIANTO | H320: MANAJEMEN PERKANTORAN DAN LAYANAN BISNIS | I320: LULUS
H322: Pagaralam, 05 Mei 2025
H323: Kepala Sekolah,
H325: ttd
H326: CANDRALIANSYAH,S.Pd,.M.Pd.
H327: NBM. 1027215

Sheet AP (3)
A1: PENGUMUMAN KELULUSAN
A2: SMK MUHAMMADIYAH KOTA PAGAR ALAM
A3: TAHUN PELAJARAN 2023/2024
A7: Berdasarkan Keputusan Rapat Dewan Guru dan Hasil Penilaian Satuan Pendidikan (PSP) Tahun Pelajaran 2023/2024, maka siswa SMK Muhammadiyah Kota Pagar Alam dinyatakan LULUS 100%, dengan daftar nama siswa terlampir :
A8: HIMBAWAN : | C8: 1. Tidak melakukan konvoi/arak-arakan di jalan yang bisa merugikan diri sendiri dan orang lain.
C9: 2. Tidak melakukan aksi corat coret pakaian ataupun fasilitas umum lainnya, sebaliknya jika ada pakaian/seragam yang masih layak agar diberikan kepada adik kelas yang kurang mampu.
C10: 3. Apabaila ditemukan siswa yang corat coret, konvoi, atau kegaduhan lainnya, maka lembaga tersebut akan diberikan sanksi.
A13: NO | B13: NIS | C13: NISN | D13: NOMOR UJIAN | E13: N A M A S I S W A | F13: TEMPAT TANGGAL LAHIR | G13: L/P | H13: NAMA ORANG TUA | I13: ALAMAT | J13: KELAS JURUSAN | K13: KETERANGAN
A15: 1 | B15: 6032 | C15: 0050978914 | D15: USP-02-2024-01 | E15: ABIL OKRIANSYAH | F15: GUNUNG AGUNG LAMA, 30 OKTOBER 2005 | G15: L | H15: RINSON | I15: GANG SAHABAT | J15: TEKNIK DAN BISNIS SEPEDA MOTOR | K15: LULUS
A16: =A15+1 -> 2 | B16: 6033 | C16: 0066193966 | D16: USP-02-2024-02 | E16: ADDREAN MARTHA DINATA | F16: ULAK BANDUNG, 31 MEI 2006 | G16: L | H16: MURSALIN | I16: ULAK BANDUNG | J16: TEKNIK DAN BISNIS SEPEDA MOTOR | K16: LULUS
A17: =A16+1 -> 3 | B17: 6034 | C17: 0065222134 | D17: USP-02-2024-03 | E17: ADJIE DWI NUGRAHA | F17: LAHAT, 21 DESEMBER 2006 | G17: L | H17: HAIRIL ANWAR | I17: JARAI | J17: TEKNIK DAN BISNIS SEPEDA MOTOR | K17: LULUS
A18: =A17+1 -> 4 | B18: 6036 | C18: 0064078013 | D18: USP-02-2024-04 | E18: AGIL PRATAMA | F18: PAGARALAM, 25 AGUSTUS 2006 | G18: L | H18: GURUH IRIANTO | I18: DS.BANTUNAN | J18: TEKNIK DAN BISNIS SEPEDA MOTOR | K18: LULUS
A19: =A18+1 -> 5 | B19: 6037 | C19: 0068131708 | D19: USP-02-2024-05 | E19: AHMAD ADEN JAMIL | F19: PAGAR ALAM, 30 JUNI 2006 | G19: L | H19: PAISOL BAKRI | I19: SIDOREJO | J19: TEKNIK DAN BISNIS SEPEDA MOTOR | K19: LULUS
A20: =A19+1 -> 6 | B20: 6038 | C20: 0062220503 | D20: USP-02-2024-06 | E20: BATARA ANUGRAH | F20: PAGAR ALAM, 27 JUNI 2006 | G20: L | H20: HERWAN SYAHRI | I20: BUMIAGUNG | J20: TEKNIK DAN BISNIS SEPEDA MOTOR | K20: LULUS
A21: =A20+1 -> 7 | B21: 6039 | C21: 0061700349 | D21: USP-02-2024-07 | E21: DAFFI ANDRA WIRANATA | F21: PAGARALAM, 20 JULI 2006 | G21: L | H21: SURATNO | I21: SUKA MAKMUR | J21: TEKNIK DAN BISNIS SEPEDA MOTOR | K21: LULUS
A22: =A21+1 -> 8 | B22: 6040 | C22: 0064589210 | D22: USP-02-2024-08 | E22: DANDI KUSUMA | F22: PAGARALAM, 9 MEI 2006 | G22: L | H22: PUJIANTO | I22: PEMATANG BANGO | J22: TEKNIK DAN BISNIS SEPEDA MOTOR | K22: LULUS
A23: =A22+1 -> 9 | B23: 6041 | C23: 0068611085 | D23: USP-02-2024-09 | E23: DERI SUGARA | F23: PAGAR ALAM, 21 SEPTEMBER 2006 | G23: L | H23: DEDI SUMARWAN | I23: KERINJING | J23: TEKNIK DAN BISNIS SEPEDA MOTOR | K23: LULUS
A24: =A23+1 -> 10 | B24: 6042 | C24: 0061961591 | D24: USP-02-2024-10 | E24: DIMAS PUTRA | F24: LAHAT, 13 SEPTEMBER 2006 | G24: L | H24: YURDAN MERY | I24: PERUMNAS GERIYA ABDI NEGARA | J24: TEKNIK DAN BISNIS SEPEDA MOTOR | K24: LULUS
A25: =A24+1 -> 11 | B25: 6045 | C25: 0062824184 | D25: USP-02-2024-11 | E25: EZER APRILIANSYAH | F25: SADAN, 18 APRIL 2006 | G25: L | H25: RUSLI | I25: SADAN | J25: TEKNIK DAN BISNIS SEPEDA MOTOR | K25: LULUS
A26: =A25+1 -> 12 | B26: 6046 | C26: 0069491620 | D26: USP-02-2024-12 | E26: FADHIL JUNIAR | F26: PAGARALAM, 25 JUNI 2006 | G26: L | H26: PURWANTO | I26: JL. LASKAR WANITA MENTARJO | J26: TEKNIK DAN BISNIS SEPEDA MOTOR | K26: LULUS
A27: =A26+1 -> 13 | B27: 6047 | C27: 0069519013 | D27: USP-02-2024-13 | E27: FAHMI | F27: PAGAR ALAM, 23 JULI 2006 | G27: L | H27: LISPAWATI | I27: KARANG DALO | J27: TEKNIK DAN BISNIS SEPEDA MOTOR | K27: LULUS
... A70: =A69+1 -> 56 | B70: 6096 | C70: 0066236581 | D70: USP-02-2024-56 | E70: REZA ANGGARA | F70: PAGAR ALAM, 22 FEBRUARI 2006 | G70: L | H70: SUBIRIN | I70: SUKARAMI | J70: TEKNIK DAN BISNIS SEPEDA MOTOR | K70: LULUS
A71: =A70+1 -> 57 | B71: 6097 | C71: 61401498 | D71: USP-02-2024-57 | E71: RISKI PERMANA | F71: PEKANBARU, 21 SEPTEMBER 2006 | G71: L | H71: FERI AGUS | I71: TALANG JENGKOL | J71: TEKNIK DAN BISNIS SEPEDA MOTOR | K71: LULUS
A72: =A71+1 -> 58 | B72: 6098 | C72: 0062874101 | D72: USP-02-2024-58 | E72: SAHLEFI ANWAR | F72: PAGARALAM, 10 NOVEMBER 2006 | G72: L | H72: MUSRIADI | I72: JL. PRATU SUKER | J72: TEKNIK DAN BISNIS SEPEDA MOTOR | K72: LULUS
A73: =A72+1 -> 59 | B73: 6100 | C73: 0069098861 | D73: USP-02-2024-59 | E73: VANES NOVANZA | F73: PAGARALAM, 01 NOVEMBER 2006 | G73: L | H73: ELMI HARIS | I73: GUNUNG GENDANG | J73: TEKNIK DAN BISNIS SEPEDA MOTOR | K73: LULUS
A74: =A73+1 -> 60 | B74: 6101 | C74: 0064148300 | D74: USP-02-2024-60 | E74: VIRGGI ADE WIBOWO | F74: PAGAR ALAM, 1 NOVEMBER 2006 | G74: L | H74: SAPTORO | I74: NUSA INDAH | J74: TEKNIK DAN BISNIS SEPEDA MOTOR | K74: LULUS
A75: =A74+1 -> 61 | B75: 6102 | C75: 0069534905 | D75: USP-02-2024-61 | E75: ALFIN PUTRA PRATAMA | F75: PALEMBANG, 23 JULI 2006 | G75: L | H75: UNDARMAN | I75: JALAN NUSANTARA | J75: TEKNIK DAN BISNIS SEPEDA MOTOR | K75: LULUS
A76: =A75+1 -> 62 | B76: 6103 | C76: 0065776437 | D76: USP-02-2024-62 | E76: AMAD JUANDA | F76: PAGAR ALAM, 14 APRIL 2006 | G76: L | H76: ENDANG SUDIBYO | I76: PAGAR ALAM SELATAN | J76: TEKNIK DAN BISNIS SEPEDA MOTOR | K76: LULUS
A77: =A76+1 -> 63 | B77: 6104 | C77: 0044063273 | D77: USP-02-2024-63 | E77: ANGGA | F77: PAGARALAM, 02 AGUSTUS 2004 | G77: L | H77: BUDIMAN | I77: AIR PERIKAN | J77: TEKNIK DAN BISNIS SEPEDA MOTOR | K77: LULUS
A78: =A77+1 -> 64 | B78: 6105 | C78: 0050978876 | D78: USP-02-2024-64 | E78: AREF HIDAYAT | F78: PAGARALAM, 3 JANUARI 2005 | G78: L | H78: AFENDI | I78: NENDAGUNG JALAN GUNUNG | J78: TEKNIK DAN BISNIS SEPEDA MOTOR | K78: LULUS
A79: =A78+1 -> 65 | B79: 6106 | C79: 0051204072 | D79: USP-02-2024-65 | E79: ARI ANGGARA | F79: ULAK BANDUNG, 17 MEI 2005 | G79: L | H79: ZULFERNI | I79: ULAK BANDUNG | J79: TEKNIK DAN BISNIS SEPEDA MOTOR | K79: LULUS
A80: =A79+1 -> 66 | B80: 6107 | C80: 0056504347 | D80: USP-02-2024-66 | E80: ARYA MINGGI SAPUTRA | F80: JAMBAT AKAR, 21 DESEMBER 2005 | G80: L | H80: PILSI | I80: JAMBAT AKAR | J80: TEKNIK DAN BISNIS SEPEDA MOTOR | K80: LULUS
A81: =A80+1 -> 67 | B81: 6108 | C81: 40398302 | D81: USP-02-2024-67 | E81: BELLY AJI BUJANGGER | F81: PAGAR ALAM, 17 NOVEMBER 2004 | G81: L | H81: YUSINAR | I81: PAGARDIN | J81: TEKNIK DAN BISNIS SEPEDA MOTOR | K81: LULUS
A82: =A81+1 -> 68 | B82: 6109 | C82: 0062603508 | D82: USP-02-2024-68 | E82: DAVID JUNI ANGGRA | F82: PAGAR ALAM, 28 JUNI 2006 | G82: L | H82: RADI SUBROTO | I82: SUKA MULYA | J82: TEKNIK DAN BISNIS SEPEDA MOTOR | K82: LULUS
A83: =A82+1 -> 69 | B83: 6110 | C83: 0067012685 | D83: USP-02-2024-69 | E83: DANI ANDIKA | F83: PAGAR ALAM, 29 MEI 2006 | G83: L | H83: JUNA | I83: TEBAT BARU ILIR | J83: TEKNIK DAN BISNIS SEPEDA MOTOR | K83: LULUS
... A150: =A149+1 -> 136 | B150: 6278 | C150: 0074666987 | D150: USP-02-2024-136 | E150: ELKHA JESSICA | F150: PAGAR ALAM, 1 JUNI 2007 | G150: P | H150: LAS PUJIANTO | I150: JANANG | J150: FARMASI KLINIS DAN KOMUNITAS | K150: LULUS
A151: =A150+1 -> 137 | B151: 6279 | C151: 65633815 | D151: USP-02-2024-137 | E151: ELLA PUTRI ARIANTI | F151: PAGARALAM, 19 OKTOBER 2006 | G151: P | H151: EDI SURIANTO | I151: GANG MELATI | J151: FARMASI KLINIS DAN KOMUNITAS | K151: LULUS
A152: =A151+1 -> 138 | B152: 6280 | C152: 0066853099 | D152: USP-02-2024-138 | E152: FITRAH ZONATHA | F152: PAGAR ALAM, 24 OKTOBER 2006 | G152: L | H152: JONI | I152: SIDOREJO | J152: FARMASI KLINIS DAN KOMUNITAS | K152: LULUS
A153: =A152+1 -> 139 | B153: 6281 | C153: 0063818365 | D153: USP-02-2024-139 | E153: FITRI OKTA RAMAHDANI | F153: PAGARALAM, 24 OKTOBER 2006 | G153: P | H153: SUPRIANTO | I153: MUJAIS KARIM | J153: FARMASI KLINIS DAN KOMUNITAS | K153: LULUS
A154: =A153+1 -> 140 | B154: 6282 | C154: 67631666 | D154: USP-02-2024-140 | E154: FLORA CANTIKA | F154: PAGAR ALAM, 18 OKTOBER 2006 | G154: P | H154: HENDRI | I154: TEBAT BARU ULU | J154: FARMASI KLINIS DAN KOMUNITAS | K154: LULUS
A155: =A154+1 -> 141 | B155: 6285 | C155: 0064532350 | D155: USP-02-2024-141 | E155: LEGITA MAYANG SARI | F155: MARTAPURA, 29 MEI 2006 | G155: P | H155: WARGA SUBEKTI | I155: MARTAPURA | J155: FARMASI KLINIS DAN KOMUNITAS | K155: LULUS
A156: =A155+1 -> 142 | B156: 6286 | C156: 0063090287 | D156: USP-02-2024-142 | E156: MIRANDA SALSABELA | F156: PULAU PANGGUNG, 25 MEI 2006 | G156: P | H156: MIRIANTO | I156: PULAU PANGGUNG | J156: FARMASI KLINIS DAN KOMUNITAS | K156: LULUS
A157: =A156+1 -> 143 | B157: 6288 | C157: 0040775274 | D157: USP-02-2024-143 | E157: MUHAMMAD HADI PRATAMA | F157: PALEMBANG, 24 SEPTEMBER 2004 | G157: L | H157: AMIR SYARIFUDIN | I157: TANJUNG ARO | J157: FARMASI KLINIS DAN KOMUNITAS | K157: LULUS
A158: =A157+1 -> 144 | B158: 6289 | C158: 0063447662 | D158: USP-02-2024-144 | E158: NIKMAH NIAR | F158: JARAI, 19 JULI 2006 | G158: P | H158: HARBUDI | I158: JARAI | J158: FARMASI KLINIS DAN KOMUNITAS | K158: LULUS
A159: =A158+1 -> 145 | B159: 6290 | C159: 0074884119 | D159: USP-02-2024-145 | E159: NINGSIH FATIMAH | F159: PALEMBANG, 18 FEBRUARI 2007 | G159: P | H159: DALIMAN | I159: SIMPANG PADANG KARET | J159: FARMASI KLINIS DAN KOMUNITAS | K159: LULUS
A160: =A159+1 -> 146 | B160: 6291 | C160: 0063067239 | D160: USP-02-2024-146 | E160: PUTRI NABILA | F160: TONGKOK, 12 AGUSTUS 2006 | G160: P | H160: DARMANSAH | I160: DESA TONGKOK | J160: FARMASI KLINIS DAN KOMUNITAS | K160: LULUS
A161: =A160+1 -> 147 | B161: 6292 | C161: 0067641995 | D161: USP-02-2024-147 | E161: PUTRI ZAHRA AZIZAH | F161: SUBANG, 22 MARET 2006 | G161: P | H161: SULISTIONO | I161: GRIYA BANGUN SEJAHTERA BLOK A3 JALAN SALAK NO, 2 | J161: FARMASI KLINIS DAN KOMUNITAS | K161: LULUS
A162: =A161+1 -> 148 | B162: 6293 | C162: 62102477 | D162: USP-02-2024-148 | E162: RAHMI VALENSIA | F162: GUNUNG KAYA, 06 SEPTEMBER 2006 | G162: P | H162: JON SISWANTO | I162: GUNUNG KAYA | J162: FARMASI KLINIS DAN KOMUNITAS | K162: LULUS
A163: =A162+1 -> 149 | B163: 6295 | C163: 0067700566 | D163: USP-02-2024-149 | E163: SHOFIE TSAABITA DHIAH ULHAQ | F163: PAGARALAM, 03 DESEMBER 2006 | G163: P | H163: DEDI YULIASMAN | I163: PERUMNAS NENDAGUNG | J163: FARMASI KLINIS DAN KOMUNITAS | K163: LULUS
A164: =A163+1 -> 150 | B164: 6296 | C164: 0068596302 | D164: USP-02-2024-150 | E164: SINDI INDAH PERMATASARI | F164: PAGAR ALAM, 14 JUNI 2006 | G164: P | H164: NAWALUDIN | I164: BELAKANG SMA | J164: FARMASI KLINIS DAN KOMUNITAS | K164: LULUS
A165: =A164+1 -> 151 | B165: 6297 | C165: 63380798 | D165: USP-02-2024-151 | E165: TARA MEILANA | F165: PULAU PANGGUNG, 25 MEI 2006 | G165: P | H165: ASTAN RIDI HARTONO | I165: PULAU PANGGUNG | J165: FARMASI KLINIS DAN KOMUNITAS | K165: LULUS
A166: =A165+1 -> 152 | B166: 6298 | C166: 0051150926 | D166: USP-02-2024-152 | E166: TIARA ANDINI | F166: SUKARAMI, 4 SEPTEMBER 2005 | G166: P | H166: SYAMSI | I166: DESA PULAU | J166: FARMASI KLINIS DAN KOMUNITAS | K166: LULUS
A167: =A166+1 -> 153 | B167: 6299 | C167: 0061574958 | D167: USP-02-2024-153 | E167: VIRGINIA BRILI ABSON | F167: PAGARALAM, 25 JULI 2006 | G167: P | H167: SUBRI ABSON | I167: JARAI | J167: FARMASI KLINIS DAN KOMUNITAS | K167: LULUS
A168: =A167+1 -> 154 | B168: 6136 | C168: 0061199635 | D168: USP-02-2024-154 | E168: ABEL PEBRI ANDIA | F168: PAGAR ALAM, 14 FEBRUARI 2006 | G168: L | H168: ANDI FIRMANSYAH | I168: TALANG GELUNG SAKTI | J168: TEKNIK JARINGAN KOMPUTER DAN TELEKOMUNIKASI | K168: LULUS
A169: =A168+1 -> 155 | B169: 6137 | C169: 0075687881 | D169: USP-02-2024-155 | E169: ADITIYA AL AFSSY | F169: PAGARALAM, 09 JUNI 2007 | G169: L | H169: ZULKIFLI | I169: TLG JELATANG | J169: TEKNIK JARINGAN KOMPUTER DAN TELEKOMUNIKASI | K169: LULUS
A170: =A169+1 -> 156 | B170: 6138 | C170: 0063556417 | D170: USP-02-2024-156 | E170: ALDI YURIKO | F170: PENANTIAN, 19 NOPEMBER 2006 | G170: P | H170: NUDIANTO | I170: DESA PENANTIAN | J170: TEKNIK JARINGAN KOMPUTER DAN TELEKOMUNIKASI | K170: LULUS
A171: =A170+1 -> 157 | B171: 6139 | C171: 0064848031 | D171: USP-02-2024-157 | E171: ALWIN SAPUTERA | F171: PAGAR ALAM, 04 DESEMBER 2006 | G171: L | H171: AWALLUDIN | I171: TANJUNG ARO | J171: TEKNIK JARINGAN KOMPUTER DAN TELEKOMUNIKASI | K171: LULUS
A172: =A171+1 -> 158 | B172: 6140 | C172: 0034409273 | D172: USP-02-2024-158 | E172: AYU AMANDA NOVRIANI | F172: ULAK TEBERAU, 20 NOVEMBER 2006 | G172: P | H172: ZAIRIN | I172: GUNUNG LIWAT | J172: TEKNIK JARINGAN KOMPUTER DAN TELEKOMUNIKASI | K172: LULUS
A173: =A172+1 -> 159 | B173: 6141 | C173: 0067860444 | D173: USP-02-2024-159 | E173: CINDI RIZKIANI | F173: TERTAP, 1 FEBRUARI 2006 | G173: P | H173: MARWANSYAH | I173: TERTAP | J173: TEKNIK JARINGAN KOMPUTER DAN TELEKOMUNIKASI | K173: LULUS
A174: =A173+1 -> 160 | B174: 6142 | C174: 0066965059 | D174: USP-02-2024-160 | E174: DESSY ADHA YURISA | F174: INDRAMAYU, 31 DESEMBER 2006 | G174: P | H174: SOPARI | I174: SADAN | J174: TEKNIK JARINGAN KOMPUTER DAN TELEKOMUNIKASI | K174: LULUS
A175: =A174+1 -> 161 | B175: 6144 | C175: 0061462186 | D175: USP-02-2024-161 | E175: DONI AGUSTIADI | F175: NANTIGIRI, 9 AGUSTUS 2006 | G175: P | H175: USBIANTO | I175: NANTIGIRI | J175: TEKNIK JARINGAN KOMPUTER DAN TELEKOMUNIKASI | K175: LULUS
A176: =A175+1 -> 162 | B176: 6146 | C176: 0067643102 | D176: USP-02-2024-162 | E176: FAULIN NOVITA SARI | F176: AROMANTAI, 5 OKTOBER 2006 | G176: P | H176: KURNIAWAN | I176: AROMANTAI | J176: TEKNIK JARINGAN KOMPUTER DAN TELEKOMUNIKASI | K176: LULUS
A177: =A176+1 -> 163 | B177: 6147 | C177: 0065138087 | D177: USP-02-2024-163 | E177: HARIZAL KURNIAWANSYAH | F177: SADAN, 2 JULI 2006 | G177: L | H177: HASMIRULLAH | I177: SADAN | J177: TEKNIK JARINGAN KOMPUTER DAN TELEKOMUNIKASI | K177: LULUS
... A197: =A196+1 -> 183 | B197: 6171 | C197: 0060052508 | D197: USP-02-2024-184 | E197: ZASKIA SALSYABILILLA | F197: PAGAR ALAM, 23 DESEMBNER 2006 | G197: P | H197: INDRA GUNAWAN | I197: TEBAT BARU ILIR | J197: TEKNIK JARINGAN KOMPUTER DAN TELEKOMUNIKASI | K197: LULUS
A198: =A197+1 -> 184 | B198: 6152 | C198: 0069666341 | D198: USP-02-2024-170 | E198: MELANI SAPUTRI | F198: PAGARALAM, 3 JUNI 2006 | G198: P | H198: PORWONO | I198: GUNUNG GARE | J198: TEKNIK JARINGAN KOMPUTER DAN TELEKOMUNIKASI | K198: LULUS
A199: =A198+1 -> 185 | B199: 6411 | C199: 0063248685 | D199: USP-02-2024-185 | E199: YUSNITA SEPTIANI | F199: ULAK BANDUNG, 17 SEPTEMBER 2006 | G199: P | H199: YUDI SARMANTO | I199: ULAK BANDUNG | J199: TEKNIK JARINGAN KOMPUTER DAN TELEKOMUNIKASI | K199: LULUS
A200: =A199+1 -> 186 | B200: 6788 | C200: 0066674013 | D200: USP-02-2024-186 | E200: AREL RAKA SIWI | F200: TALANG TINGGI, 02 SEPTEMBER 2007 | G200: L | H200: HANDI RIZAL | I200: DESA TALANG TINGGI | J200: TEKNIK JARINGAN KOMPUTER DAN TELEKOMUNIKASI | K200: LULUS
A201: =A200+1 -> 187 | B201: 6172 | C201: 0061995860 | D201: USP-02-2024-187 | E201: ADEL ADEA ADENI | F201: PAGAR ALAM, 21 DESEMBER 2006 | G201: P | H201: ANTONI | I201: TEBAT BARU ULU | J201: DESAIN KOMUNIKASI VISUAL | K201: LULUS
A202: =A201+1 -> 188 | B202: 6173 | C202: 0069714596 | D202: USP-02-2024-188 | E202: ALFA ROZI AGUNG SAPUTRA | F202: ACEH, 3 AGUSTUS 2006 | G202: L | H202: ASROL TEDI SAPUTRA | I202: DESA ACEH | J202: DESAIN KOMUNIKASI VISUAL | K202: LULUS
A203: =A202+1 -> 189 | B203: 6174 | C203: 0067802936 | D203: USP-02-2024-189 | E203: ANANDA RIFQI RAMADHANI | F203: PAGARALAM, 29 SEPTEMBER 2006 | G203: L | H203: IMRON | I203: TALANG JAWA | J203: DESAIN KOMUNIKASI VISUAL | K203: LULUS
A204: =A203+1 -> 190 | B204: 6175 | C204: 0061338827 | D204: USP-02-2024-190 | E204: ANDIKA PRAYOGA ARSELO | F204: PAGAR AGUNG, 04 NOVEMBER 2006 | G204: L | H204: ARSIL SUSANTO | I204: JLN. KABUPATEN NO.1 DESA PAGAR AGUNG | J204: DESAIN KOMUNIKASI VISUAL | K204: LULUS
A205: =A204+1 -> 191 | B205: 6176 | C205: 0079462572 | D205: USP-02-2024-191 | E205: ANDRI ALSATRIA | F205: PALEMBANG, 25JANUARI 2007 | G205: L | H205: SUGIANTO | I205: LINTAS SUMATERA PAGARALAM BENGKULU | J205: DESAIN KOMUNIKASI VISUAL | K205: LULUS
A206: =A205+1 -> 192 | B206: 6177 | C206: 0053693599 | D206: USP-02-2024-192 | E206: BOJES REVALDO | F206: PAGARALAM, 24 JULI 2005 | G206: L | H206: SAIPUL | I206: TAMAN SISWA | J206: DESAIN KOMUNIKASI VISUAL | K206: LULUS
A207: =A206+1 -> 193 | B207: 6178 | C207: 0064162612 | D207: USP-02-2024-193 | E207: BUNGA FAUZIAH | F207: JAKARTA, 17 FEBRUARI 2006 | G207: P | H207: SUPARNO HADIWIJAYA | I207: JL. KOMBES H UMAR | J207: DESAIN KOMUNIKASI VISUAL | K207: LULUS
A208: =A207+1 -> 194 | B208: 6179 | C208: 0066921096 | D208: USP-02-2024-194 | E208: DHEANTI AIDA SAFITRI | F208: PAGAR ALAM, 29 DESEMBER 2006 | G208: P | H208: DEDI ISKANDAR | I208: TEBAT BARU ULU | J208: DESAIN KOMUNIKASI VISUAL | K208: LULUS
A209: =A208+1 -> 195 | B209: 6180 | C209: 0058989832 | D209: USP-02-2024-195 | E209: DINA NALIA | F209: PAGARALAM, 25 DESEMBER 2005 | G209: P | H209: SARIPUDIN | I209: ULU RURAH | J209: DESAIN KOMUNIKASI VISUAL | K209: LULUS
A210: =A209+1 -> 196 | B210: 6181 | C210: 0069842711 | D210: USP-02-2024-196 | E210: ERKA RIDHO ANJASTIAWAN | F210: SUKAMERINDU, 30 MEI 2006 | G210: L | H210: PAWANDI | I210: SUKAMERINDU | J210: DESAIN KOMUNIKASI VISUAL | K210: LULUS
A211: =A210+1 -> 197 | B211: 6182 | C211: 0078185021 | D211: USP-02-2024-197 | E211: GIO ERFANSYAH | F211: TALANG MENGKENANG, 21 JUNI 2007 | G211: L | H211: HENDRI ALAMSYAH | I211: TALANG MENGKENANG | J211: DESAIN KOMUNIKASI VISUAL | K211: LULUS
... A222: =A221+1 -> 208 | B222: 6193 | C222: 0067573288 | D222: USP-02-2024-207 | E222: NAZELA INDARIANI | F222: PAGAR ALAM, 14 AGUSTUS 2006 | G222: P | H222: DARWIN | I222: MUARA SIBAN | J222: DESAIN KOMUNIKASI VISUAL | K222: LULUS
A223: =A222+1 -> 209 | B223: 6406 | C223: 0059446772 | D223: USP-02-2024-208 | E223: NOVI NURHAINI | F223: SUNGAI LIAT, 26 NOVEMBER 2005 | G223: P | H223: EDI SUPRIADI | I223: MUJAIS KARIM | J223: DESAIN KOMUNIKASI VISUAL | K223: LULUS
A224: =A223+1 -> 210 | B224: 6194 | C224: 0064520541 | D224: USP-02-2024-209 | E224: NUR JAZELLA | F224: SADAN, 14 APRIL 2006 | G224: P | H224: IRSAN SUSANTO | I224: SADAN | J224: DESAIN KOMUNIKASI VISUAL | K224: LULUS
A225: =A224+1 -> 211 | B225: 6195 | C225: 0061199638 | D225: USP-02-2024-211 | E225: RAFI JULIANSYAH | F225: PAGAR ALAM, 2 JULI 2006 | G225: L | H225: DARYOTO | I225: PAGAR ALAM | J225: DESAIN KOMUNIKASI VISUAL | K225: LULUS
A226: =A225+1 -> 212 | B226: 6196 | C226: 0079572397 | D226: USP-02-2024-212 | E226: REZA AKBAR ANUGRA | F226: SELIBAR, 22 APRIL 2006 | G226: L | H226: YANDI EPRIZON | I226: TALANG CAMAI | J226: DESAIN KOMUNIKASI VISUAL | K226: LULUS
A227: =A226+1 -> 213 | B227: 6197 | C227: 0064149069 | D227: USP-02-2024-213 | E227: RIDHO RADITIA | F227: PAGAR ALAM, 12 JULI 2006 | G227: L | H227: SUWARDI | I227: GUNUNG GENDANG | J227: DESAIN KOMUNIKASI VISUAL | K227: LULUS
A228: =A227+1 -> 214 | B228: 6198 | C228: 0063061038 | D228: USP-02-2024-214 | E228: YOPI ULPIYA | F228: PAGAR ALAM, 7 JULI 2006 | G228: P | H228: MAULANA | I228: KAMPUNG HARAPAN JAYA | J228: DESAIN KOMUNIKASI VISUAL | K228: LULUS
A229: =A228+1 -> 215 | B229: 6199 | C229: 0051503458 | D229: USP-02-2024-215 | E229: YUZA DANUARTA | F229: TANJUNG ALAM, 9 JUNI 2005 | G229: L | H229: SANDRA | I229: JALAN CIK DIN | J229: DESAIN KOMUNIKASI VISUAL | K229: LULUS
A230: =A229+1 -> 216 | B230: 6200 | C230: 0077680690 | D230: USP-02-2024-216 | E230: ANDIEN PUTRI ELICCIA | F230: PAGARALAM, 6 JANUARI 2007 | G230: P | H230: WIDI SUPRAFTO | I230: BANGUN REJO | J230: DESAIN KOMUNIKASI VISUAL | K230: LULUS
A231: =A230+1 -> 217 | B231: 6201 | C231: 65221751 | D231: USP-02-2024-217 | E231: ANNISA LARASATI | F231: PAGARALAM, 17 DESEMBER 2005 | G231: P | H231: SUHARDI | I231: PAGAR ALAM | J231: DESAIN KOMUNIKASI VISUAL | K231: LULUS
A232: =A231+1 -> 218 | B232: 6202 | C232: 0051555173 | D232: USP-02-2024-218 | E232: ARIEL FAHRIAN DIAS | F232: TERTAP, 10 AGUSTUS 2005 | G232: L | H232: DAVID ARI SUSANTO | I232: DESA ACEH | J232: DESAIN KOMUNIKASI VISUAL | K232: LULUS
A233: =A232+1 -> 219 | B233: 6204 | C233: 0038578857 | D233: USP-02-2024-220 | E233: ARIS RAHMAT FITRIANSYAH | F233: PAGARALAM, 24 DESEMBER 2003 | G233: L | H233: MUHAMAD SAHUDIN | I233: AFD. III MUARA PERIKAN | J233: DESAIN KOMUNIKASI VISUAL | K233: LULUS
A234: =A233+1 -> 220 | B234: 6205 | C234: 0063148763 | D234: USP-02-2024-221 | E234: ARYADI PRAMANSYAH | F234: PAGAR ALAM, 07 SEPTEMBER 2006 | G234: L | H234: DEDY PRANATA | I234: DS. PEMATANG BANGO | J234: DESAIN KOMUNIKASI VISUAL | K234: LULUS
A235: =A234+1 -> 221 | B235: 6206 | C235: 0060038740 | D235: USP-02-2024-222 | E235: BENI FEBRIANSYAH | F235: GUNUNG DEMPO, 8 FEBRUARI 2006 | G235: L | H235: TRIMO | I235: AFD III MUARA PERIKAN GUNUNG DEMPO | J235: DESAIN KOMUNIKASI VISUAL | K235: LULUS
A236: =A235+1 -> 222 | B236: 6207 | C236: 0066424248 | D236: USP-02-2024-223 | E236: CAHAYA OKA YOHALAN DARI | F236: PAGAR ALAM, 20 MEI 2007 | G236: P | H236: MUHAMMAD MUDIN | I236: TEBAT GIRI INDAH | J236: DESAIN KOMUNIKASI VISUAL | K236: LULUS
A237: =A236+1 -> 223 | B237: 6208 | C237: 0061169024 | D237: USP-02-2024-224 | E237: CHRISTIAN DEWANTARA | F237: JAMBAT AKAR, 18 DESEMBER 2006 | G237: L | H237: IRUMSYAH | I237: JAMBAT AKAR | J237: DESAIN KOMUNIKASI VISUAL | K237: LULUS
A238: =A237+1 -> 224 | B238: 6209 | C238: 0067325841 | D238: USP-02-2024-225 | E238: DINDA SELLY PERMATA | F238: PAGAR ALAM, 20 AGUSTUS 2006 | G238: P | H238: SANDRI | I238: TEBAT BARU ILIR | J238: DESAIN KOMUNIKASI VISUAL | K238: LULUS
A239: =A238+1 -> 225 | B239: 6210 | C239: 0067053896 | D239: USP-02-2024-226 | E239: ESSYA NUR HEMANDANI | F239: PAGAR ALAM, 18 NOVEMBER 2006 | G239: P | H239: MAHDI | I239: SIDOREJO | J239: DESAIN KOMUNIKASI VISUAL | K239: LULUS
A240: =A239+1 -> 226 | B240: 6791 | C240: 0075121105 | D240: USP-02-2024-245 | E240: FAHERA LARA SAKTI | F240: KARANG AGUNG, 08 FEBRUARI 2007 | G240: P | H240: PITRIS HARISANDI | I240: KARANG AGUNG | J240: DESAIN KOMUNIKASI VISUAL | K240: LULUS
A241: =A240+1 -> 227 | B241: 6211 | C241: 0063253897 | D241: USP-02-2024-227 | E241: HENGKI KORNIAWAN | F241: SUKANANTI, 8 OKTOBER 2006 | G241: L | H241: YANTO | I241: PENGANDONAN | J241: DESAIN KOMUNIKASI VISUAL | K241: LULUS
A242: =A241+1 -> 228 | B242: 6212 | C242: 0062973223 | D242: USP-02-2024-228 | E242: HENI KARUNIA PUTRI | F242: PAGAR ALAM, 2 AGUSTUS 2006 | G242: P | H242: SURURI | I242: PELANG KENIDAI | J242: DESAIN KOMUNIKASI VISUAL | K242: LULUS
A243: =A242+1 -> 229 | B243: 6213 | C243: 0063997631 | D243: USP-02-2024-229 | E243: ILHAM RAHMADANI | F243: PAGAR ALAM, 03 MEI 2006 | G243: L | H243: DARNI | I243: J. KAPTEN SANAP | J243: DESAIN KOMUNIKASI VISUAL | K243: LULUS
...

Sheet CETAK KELULUSAN
A1: MAJELIS PENDIDIKAN DASAR DAN MENENGAH | L1: MAJELIS PENDIDIKAN DASAR DAN MENENGAH | AC1: 300 | AD1: MASUKAN NOMOR URUT SISWA PADA LEMBAR PENGUMUMAN
A2: PIMPINAN DAERAH MUHAMMADIYAH PAGAR ALAM | L2: PIMPINAN DAERAH MUHAMMADIYAH PAGAR ALAM
A3: SMK MUHAMMADIYAH PAGAR ALAM | L3: SMK MUHAMMADIYAH PAGAR ALAM | AC3: PRINT SURAT KELULUSAN SESUAI YG DIBUTUHKAN
A4: KOMPETENSI KEAHLIAN : AKUNTANSI DAN KEUANGAN LEMBAGA | L4: KOMPETENSI KEAHLIAN : AKUNTANSI DAN KEUANGAN LEMBAGA
A5: MANAJEMEN PERKANTORAN DAN LAYANAN BISNIS, DESAIN KOMUNIKASI VISUAL | L5: MANAJEMEN PERKANTORAN DAN LAYANAN BISNIS, DESAIN KOMUNIKASI VISUAL
A6: TEKNIK JARINGAN KOMPUTER DAN TELEKOMUNIKASI,TEKNIK OTOMOTIF, TEKNOLOGI FARMASI | L6: TEKNIK JARINGAN KOMPUTER DAN TELEKOMUNIKASI,
A7: TERAKREDITASI | L7: TEKNIK OTOMOTIF, TEKNOLOGI FARMASI
A8: Jalan Kombes H. Umar No. 1123 Kota Pagaralam–Sumatera Selatan Telp/Faks ( 0730 ) 624223 | L8: TERAKREDITASI
A9: Pos-El : smkmuhpagaralam@yahoo.co.id | L9: Jalan Kombes H. Umar No. 1123 Kota Pagaralam–Sumatera Selatan Telp/Faks ( 0730 ) 624223 | AA9: UNTUK PENEMPELAN FOTO, TTD KEPALA SEKOLAH DAN STAMPEL/CAP SEKOLAH SISWA DIWAJIBKAN MEMINTA KE KANTOR STAF TATA USAHA SEKOLAH
L10: Pos-El : smkmuhpagaralam@yahoo.co.id
A14: SURAT KETERANGAN LULUS | L14: SURAT KETERANGAN LULUS
A15: Nomor : 2901 /III.4.AU.SMKM/F/2025 | L15: Nomor : 2511 /III.4.AU.SMKM/F/2024
A16: Tentang :
A17: Pengumuman Kelulusan dan ketidaklulusan Tingkat Satuan Pendidikan Sekolah Menengah Kejuruan Provinsi Sumatera Selatan Pada Sekolah Menengah Kejuruan Muhammadiyah Kota Pagar Alam Tahun Pelajaran 2024/2025. | L17: Yang bertanda tangan dibawah ini Kepala Sekolah Menengah Kejuruan (SMK) Muhammadiyah Pagar Alam menerangkan bahwa :
A18: Dasar :
A19: 1. Undang-undang Republik Indonesia Nomor 20 Tahun 2003 tentang sistem Pendidikan Nasional (Lembaran Negara Tahun 2003 Nomor 78, Tambahan Lembaran Negara Nomor 4301);
A20: 2. Peraturan Pemerintah Nomor 19 Tahun 2005 tentang Standar Nasional Pendidikan (Lembaran Negara Tahun 2005 Nomor 41, Tambahan Lembaran Negara Nomor 4469);
A21: 3. Peraturan Menteri Pendidikan, Kebudayaan, Riset, dan Teknologi Nomor 21 Tahun 2022 tentang Standar Penilaian Pendidikan pada Pendidikan Anak Usia Dini, Jenjang Pendidikan Dasar, dan Jenjang Pendidikan Menengah;
A22: 4. Peraturan Menteri Pendidikan, Kebudayaan, Riset, dan Teknologi Nomor 21 Tahun 2022, Pasal 9 Perihal Penilaian hasil belajar Peserta Didik dengan prosedur sebagaimana dimaksud dalam Pasal 3 sampai dengan Pasal 8 berbentuk (a.) Penilaian formatif dan (1) huruf a bertujuan untuk memantau dan memperbaiki proses pembelajaran serta mengevaluasi pencapaian(b)Penilaian sumatif, Penilaian formatif sebagaimana dimaksud pada ayat tujuan pembelajaran, Penilaian sumatif pada jenjang pendidikan dasar dan jenjang pendidikan menengah sebagaimana dimaksud pada ayat (3) bertujuan untuk menilai pencapaian hasil belajar Peserta Didik sebagai dasar penentuan kenaikan kelas; dan kelulusan dari Satuan Pendidikan;
A23: 5. Peraturan Menteri Pendidikan, Kebudayaan, Riset, dan Teknologi Nomor 21 Tahun 2022, Pasal 11 Perihal Satuan Pendidikan menetapkan mekanisme penentuan kenaikan kelas dan kelulusan dari Satuan Pendidikan berdasarkan pedoman yang ditetapkan oleh kepala unit utama yang membidangi kurikulum dan asesmen;
A24: 6. Hasil Rapat Kelulusan Dewan Guru SMK Muhammadiyah Kota Pagar Alam Tanggal 3 Mei 2025;
A25: Memutuskan :
A27: Nama | D27: : | E27: =VLOOKUP($AC$1,PENGUMUMAN!$A$15:$I$320,4,0) -> SHELLA RAHMA SAPUTRI | L27: Nama | O27: : | P27: =VLOOKUP(AC13,PENGUMUMAN!A15:I320,5,0) -> #N/A
A28: NISN | D28: : | E28: =VLOOKUP($AC$1,PENGUMUMAN!$A$15:$I$320,3,0) -> 0069321190 | L28: NISN | O28: : | P28: =VLOOKUP($AC$13,PENGUMUMAN!$A$15:$I$323,3,0) -> #N/A
A29: NPSN | D29: : | E29: 10604624 | L29: NPSN | O29: : | P29: 10604624
A30: PROGRAM KEAHLIAN | D30: : | E30: =VLOOKUP($AC$1,PENGUMUMAN!$A$15:$I$320,8,0) -> MANAJEMEN PERKANTORAN DAN LAYANAN BISNIS | L30: PROGRAM KEAHLIAN | O30: : | P30: =VLOOKUP($AC$13,PENGUMUMAN!$A$15:$I$323,9,0) -> #N/A
A31: Dinyatakan
A36: Kepada Peserta Didik yang dinyatakan lulus berhak memperoleh Ijazah, Keputusan ini mulai berlaku sejak tanggal ditetapkan dan apabila dikemudian hari ternyata terdapat kekeliruan dalam penetapan ini akan dilakukan perbaikan sebagaimana mestinya.
A37: Demikian Pengumuman kelulusan ini kami sampaikan, atas perhatian diucapkan terimakasih.
I39: Pagaralam, 05 Mei 2025 | S39: Pagaralam, 06 Mei 2024
I40: Kepala Sekolah, | S40: Kepala Sekolah,
I46: CANDRALIANSYAH,S.Pd,.M.Pd. | S46: CANDRALIANSYAH,S.Pd,.M.Pd.
I47: NBM. 1027215 | S47: NBM. 1027215
L49: Catatan : Dalam berurusan ke Sekolah, diharapkan memakai pakaian Sekolah lengkap tanpa corat-coretan.
A52: Catatan : Dalam berurusan ke sekolah, diwajibkan memakai pakaian Sekolah lengkap tanpa corat-coretan.

Sheet DEPAN (2)
A1: MAJELIS PENDIDIKAN DASAR DAN MENENGAH | M1: MAJELIS PENDIDIKAN DASAR DAN MENENGAH | AD1: 168
A2: PIMPINAN DAERAH MUHAMMADIYAH PAGAR ALAM | M2: PIMPINAN DAERAH MUHAMMADIYAH PAGAR ALAM
A3: SMK MUHAMMADIYAH PAGAR ALAM | M3: SMK MUHAMMADIYAH PAGAR ALAM
A4: KOMPETENSI KEAHLIAN : AKUNTANSI DAN KEUANGAN LEMBAGA | M4: KOMPETENSI KEAHLIAN : AKUNTANSI DAN KEUANGAN LEMBAGA
A5: OTOMATISASI TATA KELOLA PERKANTORAN, MULTIMEDIA, TEKNIK KOMPUTER JARINGAN | M5: OTOMATISASI TATA KELOLA PERKANTORAN, MULTIMEDIA, TEKNIK KOMPUTER JARINGAN
A6: TEKNIK DAN BISNIS SEPEDA MOTOR, FARMASI KLINIS DAN KOMUNITAS | M6: TEKNIK DAN BISNIS SEPEDA MOTOR, FARMASI KLINIS DAN KOMUNITAS
A7: TERAKREDITASI | M7: TERAKREDITASI
A8: Jalan Kombes H. Umar No. 1123 Kota Pagaralam–Sumatera Selatan Telp/Faks ( 0730 ) 624223 | M8: Jalan Kombes H. Umar No. 1123 Kota Pagaralam–Sumatera Selatan Telp/Faks ( 0730 ) 624223
A9: Pos-El : smkmuhpagaralam@yahoo.co.id | M9: Pos-El : smkmuhpagaralam@yahoo.co.id
AD12: =AD1+1 -> 169
A13: SURAT KETERANGAN LULUS | M13: SURAT KETERANGAN LULUS
A14: Nomor : 2054 /III.4.AU.SMKM/F/2023 | M14: Nomor : 2054 /III.4.AU.SMKM/F/2023
A16: Yang bertanda tangan dibawah ini Kepala Sekolah Menengah Kejuruan (SMK) Muhammadiyah Pagar Alam menerangkan bahwa : | M16: Yang bertanda tangan dibawah ini Kepala Sekolah Menengah Kejuruan (SMK) Muhammadiyah Pagar Alam menerangkan bahwa :
A17: Nama | D17: : | E17: =VLOOKUP($AD$1,PENGUMUMAN!A15:I320,5,0) -> PAGAR ALAM, 11 MARET 2008 | M17: Nama | P17: : | Q17: =VLOOKUP(AD12,PENGUMUMAN!A15:I320,5,0) -> LUBUK BUNTAK, 20 SEPTEMBER 2007
A19: NISN | D19: : | E19: =VLOOKUP($AD$12,PENGUMUMAN!$A$15:$I$320,3,0) -> 0073639562 | M19: NISN | P19: : | Q19: =VLOOKUP($AD$1,PENGUMUMAN!$A$15:$I$323,3,0) -> 0082674771
A21: NPSN | D21: : | E21: 10604624 | M21: NPSN | P21: : | Q21: 10604624
A22: Program Keahlian | D22: : | E22: =VLOOKUP($AD$12,PENGUMUMAN!$A$15:$I$323,10,0) -> #REF! | M22: Program Keahlian | P22: : | Q22: =VLOOKUP($AD$1,PENGUMUMAN!$A$15:$I$323,10,0) -> #REF!
A24: Berdasarkan Keputusan Rapat Dewan Guru dan Hasil Nilai Ujian Satuan Pendidikan (USP) Tahun Pelajaran 2022/2023, maka siswa tersebut diatas dinyatakan | M24: Berdasarkan Keputusan Rapat Dewan Guru dan Hasil Nilai Ujian Satuan Pendidikan (USP) Tahun Pelajaran 2022/2023, maka siswa tersebut diatas dinyatakan
A30: Demikian Surat Keterangan ini dibuat untuk dapat dipergunakan sebagaimana mestinya. | M30: Demikian Surat Keterangan ini dibuat untuk dapat dipergunakan sebagaimana mestinya.
G33: Pagaralam, 06 Mei 2024 | T33: Pagaralam, 05 Mei 2023
G34: Kepala Sekolah, | T34: Kepala Sekolah,
G38: CANDRALIANSYAH,S.Pd,.M.Pd. | T38: CANDRALIANSYAH,S.Pd,.M.Pd.
G39: NBM. 1027215 | T39: NBM. 1027215
A41: Catatan : Dalam berurusan ke Sekolah, diharapkan memakai pakaian Sekolah lengkap tanpa corat-coretan. | M41: Catatan : Dalam berurusan ke Sekolah, diharapkan memakai pakaian Sekolah lengkap tanpa corat-coretan.

Sheet TT SKL
A1: DAFTAR SERAH TERIMA SURAT KETERANGAN LULUS (SKL)
A2: SMK MUHAMMADIYAH PAGAR ALAM
A3: TAHUN PELAJARAN 2021/2022
A5: NO | B5: NIS | C5: NISN | D5: N A M A S I S W A | E5: KELAS | F5: PARAF
A7: 1 | B7: 5503 | C7: 0050353235 | D7: AAS SITI HASANA | E7: AKUNTANSI DAN KEUANGAN LEMBAGA 1 | F7: 1 …………
A8: =A7+1 -> 2 | B8: 5504 | C8: 0045216454 | D8: AGUNG SANJAYA | E8: AKUNTANSI DAN KEUANGAN LEMBAGA 1 | F8: 2 …………
A9: =A8+1 -> 3 | B9: 5505 | C9: 0040938093 | D9: AISYAH DWI FORTUNA | E9: AKUNTANSI DAN KEUANGAN LEMBAGA 1 | F9: 3 …………
A10: =A9+1 -> 4 | B10: 5506 | C10: 0043186302 | D10: ALEX BAMBANG SUSILO | E10: AKUNTANSI DAN KEUANGAN LEMBAGA 1 | F10: 4 …………
A11: =A10+1 -> 5 | B11: 5507 | C11: 0049864015 | D11: ANGGUN LESTARI | E11: AKUNTANSI DAN KEUANGAN LEMBAGA 1 | F11: 5 …………
A12: =A11+1 -> 6 | B12: 5508 | C12: 0042873760 | D12: APRIANSEN | E12: AKUNTANSI DAN KEUANGAN LEMBAGA 1 | F12: 6 …………
A13: =A12+1 -> 7 | B13: 5509 | C13: 0042814320 | D13: BULAN SARI | E13: AKUNTANSI DAN KEUANGAN LEMBAGA 1 | F13: 7 …………
A14: =A13+1 -> 8 | B14: 5510 | C14: 0050315247 | D14: CENDI FAJRIANI | E14: AKUNTANSI DAN KEUANGAN LEMBAGA 1 | F14: 8 …………
A15: =A14+1 -> 9 | B15: 5511 | C15: 0041093082 | D15: DAVIN RIYAN SAPUTRA | E15: AKUNTANSI DAN KEUANGAN LEMBAGA 1 | F15: 9 …………
A16: =A15+1 -> 10 | B16: 5512 | C16: 0045161134 | D16: DINDA VIANDRA PUTRI | E16: AKUNTANSI DAN KEUANGAN LEMBAGA 1 | F16: 10 …………
A17: =A16+1 -> 11 | B17: 5513 | C17: 0031832597 | D17: ERLANGGA PRASETIA BAKTI | E17: AKUNTANSI DAN KEUANGAN LEMBAGA 1 | F17: 11 …………
A18: =A17+1 -> 12 | B18: 5514 | C18: 0050376683 | D18: FERRI SUHARMAN | E18: AKUNTANSI DAN KEUANGAN LEMBAGA 1 | F18: 12 …………
A19: =A18+1 -> 13 | B19: 5515 | C19: 0040892199 | D19: HERU FERIANSYAH | E19: AKUNTANSI DAN KEUANGAN LEMBAGA 1 | F19: 13 …………
... A371: =A370+1 -> 365 | B371: 5502 | C371: 0043492383 | D371: YULIANAH | E371: FARMASI KLINIS DAN KOMUNITAS | F371: 365 …………
E373: Mengetahui
E374: Kepala Sekolah
E378: Candraliansyah, S.Pd,.M.Pd
E379: NBM 1027215

Sheet TT SKL (2)
A1: DAFTAR SERAH TERIMA SURAT KETERANGAN LULUS (SKL)
A2: SMK MUHAMMADIYAH PAGAR ALAM
A3: TAHUN PELAJARAN 2021/2022
A5: NO | B5: NIS | C5: NISN | D5: N A M A S I S W A | E5: KELAS | F5: PARAF
A7: 1 | B7: 5503 | C7: 0050353235 | D7: AAS SITI HASANA | E7: AKUNTANSI DAN KEUANGAN LEMBAGA 1 | F7: 1 …………
A8: =A7+1 -> 2 | B8: 5504 | C8: 0045216454 | D8: AGUNG SANJAYA | E8: AKUNTANSI DAN KEUANGAN LEMBAGA 1 | F8: 2 …………
A9: =A8+1 -> 3 | B9: 5505 | C9: 0040938093 | D9: AISYAH DWI FORTUNA | E9: AKUNTANSI DAN KEUANGAN LEMBAGA 1 | F9: 3 …………
A10: =A9+1 -> 4 | B10: 5506 | C10: 0043186302 | D10: ALEX BAMBANG SUSILO | E10: AKUNTANSI DAN KEUANGAN LEMBAGA 1 | F10: 4 …………
A11: =A10+1 -> 5 | B11: 5507 | C11: 0049864015 | D11: ANGGUN LESTARI | E11: AKUNTANSI DAN KEUANGAN LEMBAGA 1 | F11: 5 …………
A12: =A11+1 -> 6 | B12: 5508 | C12: 0042873760 | D12: APRIANSEN | E12: AKUNTANSI DAN KEUANGAN LEMBAGA 1 | F12: 6 …………
A13: =A12+1 -> 7 | B13: 5509 | C13: 0042814320 | D13: BULAN SARI | E13: AKUNTANSI DAN KEUANGAN LEMBAGA 1 | F13: 7 …………
A14: =A13+1 -> 8 | B14: 5510 | C14: 0050315247 | D14: CENDI FAJRIANI | E14: AKUNTANSI DAN KEUANGAN LEMBAGA 1 | F14: 8 …………
A15: =A14+1 -> 9 | B15: 5511 | C15: 0041093082 | D15: DAVIN RIYAN SAPUTRA | E15: AKUNTANSI DAN KEUANGAN LEMBAGA 1 | F15: 9 …………
A16: =A15+1 -> 10 | B16: 5512 | C16: 0045161134 | D16: DINDA VIANDRA PUTRI | E16: AKUNTANSI DAN KEUANGAN LEMBAGA 1 | F16: 10 …………
A17: =A16+1 -> 11 | B17: 5513 | C17: 0031832597 | D17: ERLANGGA PRASETIA BAKTI | E17: AKUNTANSI DAN KEUANGAN LEMBAGA 1 | F17: 11 …………
A18: =A17+1 -> 12 | B18: 5514 | C18: 0050376683 | D18: FERRI SUHARMAN | E18: AKUNTANSI DAN KEUANGAN LEMBAGA 1 | F18: 12 …………
A19: =A18+1 -> 13 | B19: 5515 | C19: 0040892199 | D19: HERU FERIANSYAH | E19: AKUNTANSI DAN KEUANGAN LEMBAGA 1 | F19: 13 …………
... A30: =A29+1 -> 24 | B30: 5527 | C30: 0050938184 | D30: SOLINIA | E30: AKUNTANSI DAN KEUANGAN LEMBAGA 1 | F30: 24 …………
A31: 1 | B31: 5528 | C31: 0040856445 | D31: ABELLA MAYANG SARI | E31: AKUNTANSI DAN KEUANGAN LEMBAGA 2 | F31: 1 …………
A32: =A31+1 -> 2 | B32: 5529 | C32: 0020490351 | D32: ANTI | E32: AKUNTANSI DAN KEUANGAN LEMBAGA 2 | F32: 2 …………
A33: =A32+1 -> 3 | B33: 5530 | C33: 0040398293 | D33: BUNGA SEFTANIA | E33: AKUNTANSI DAN KEUANGAN LEMBAGA 2 | F33: 3 …………
A34: =A33+1 -> 4 | B34: 5531 | C34: 0050350030 | D34: DELLA TRI DIYANTI | E34: AKUNTANSI DAN KEUANGAN LEMBAGA 2 | F34: 4 …………
A35: =A34+1 -> 5 | B35: 5532 | C35: 0040435597 | D35: DILLA ANGGELA | E35: AKUNTANSI DAN KEUANGAN LEMBAGA 2 | F35: 5 …………
A36: =A35+1 -> 6 | B36: 5533 | C36: 0050333189 | D36: GADIS RAMILA INDAH | E36: AKUNTANSI DAN KEUANGAN LEMBAGA 2 | F36: 6 …………
A37: =A36+1 -> 7 | B37: 5534 | C37: 0050334997 | D37: HERA DWI NADILA SARY | E37: AKUNTANSI DAN KEUANGAN LEMBAGA 2 | F37: 7 …………
A38: =A37+1 -> 8 | B38: 5536 | C38: 0040892281 | D38: MEYSA DEVA NURJANNAH | E38: AKUNTANSI DAN KEUANGAN LEMBAGA 2 | F38: 8 …………
A39: =A38+1 -> 9 | B39: 5537 | C39: 0047819960 | D39: NADIA TANTRI UTAMI | E39: AKUNTANSI DAN KEUANGAN LEMBAGA 2 | F39: 9 …………
A40: =A39+1 -> 10 | B40: 5538 | C40: 0041282485 | D40: NANDA NABILA | E40: AKUNTANSI DAN KEUANGAN LEMBAGA 2 | F40: 10 …………
A41: =A40+1 -> 11 | B41: 5539 | C41: 0039236427 | D41: NANDES ALDI PIRNANDO | E41: AKUNTANSI DAN KEUANGAN LEMBAGA 2 | F41: 11 …………
A42: =A41+1 -> 12 | B42: 5540 | C42: 0036817249 | D42: NENTI PENIAWATI | E42: AKUNTANSI DAN KEUANGAN LEMBAGA 2 | F42: 12 …………
A43: =A42+1 -> 13 | B43: 5541 | C43: 0040498952 | D43: NORA LEZA | E43: AKUNTANSI DAN KEUANGAN LEMBAGA 2 | F43: 13 …………
... A56: =A55+1 -> 26 | B56: 5555 | C56: 0031613229 | D56: YULIANA | E56: AKUNTANSI DAN KEUANGAN LEMBAGA 2 | F56: 26 …………
A57: 1 | B57: 5556 | C57: 0041133753 | D57: ALPINDO | E57: OTOMATISASI DAN TATA KELOLA PERKANTORAN 1 | F57: 1 …………
A58: =A57+1 -> 2 | B58: 5557 | C58: 0040430877 | D58: ANGGUN HUTRI AGUSTIN | E58: OTOMATISASI DAN TATA KELOLA PERKANTORAN 1 | F58: 2 …………
A59: =A58+1 -> 3 | B59: 5558 | C59: 0044035392 | D59: ANISA ABELIA | E59: OTOMATISASI DAN TATA KELOLA PERKANTORAN 1 | F59: 3 …………
A60: =A59+1 -> 4 | B60: 5559 | C60: 0037209604 | D60: ARDIANSYAH | E60: OTOMATISASI DAN TATA KELOLA PERKANTORAN 1 | F60: 4 …………
A61: =A60+1 -> 5 | B61: 5560 | C61: 0045425128 | D61: ARIE MARSELINO STEVANI | E61: OTOMATISASI DAN TATA KELOLA PERKANTORAN 1 | F61: 5 …………
A62: =A61+1 -> 6 | B62: 5561 | C62: 0043594557 | D62: AYU JULIA WINDARI | E62: OTOMATISASI DAN TATA KELOLA PERKANTORAN 1 | F62: 6 …………
A63: =A62+1 -> 7 | B63: 5562 | C63: 0022189057 | D63: BAROKAH ALAM SURYANI | E63: OTOMATISASI DAN TATA KELOLA PERKANTORAN 1 | F63: 7 …………
A64: =A63+1 -> 8 | B64: 5563 | C64: 0041614073 | D64: BELINDA DEA MONIKA | E64: OTOMATISASI DAN TATA KELOLA PERKANTORAN 1 | F64: 8 …………
A65: =A64+1 -> 9 | B65: 5564 | C65: 0040456026 | D65: BELLA SAFITRI | E65: OTOMATISASI DAN TATA KELOLA PERKANTORAN 1 | F65: 9 …………
A66: =A65+1 -> 10 | B66: 5565 | C66: 0040374525 | D66: CICA KUMALASARI | E66: OTOMATISASI DAN TATA KELOLA PERKANTORAN 1 | F66: 10 …………
A67: =A66+1 -> 11 | B67: 5566 | C67: 0041074247 | D67: DESTIANI | E67: OTOMATISASI DAN TATA KELOLA PERKANTORAN 1 | F67: 11 …………
A68: =A67+1 -> 12 | B68: 5567 | C68: 0055340384 | D68: DEVIANA NOFITASARI | E68: OTOMATISASI DAN TATA KELOLA PERKANTORAN 1 | F68: 12 …………
A69: =A68+1 -> 13 | B69: 5568 | C69: 0011495731 | D69: DEWI YUNIARTI | E69: OTOMATISASI DAN TATA KELOLA PERKANTORAN 1 | F69: 13 …………
... A86: =A85+1 -> 30 | B86: 5591 | C86: 0040436016 | D86: XAILA ISABEL RAMADHAN | E86: OTOMATISASI DAN TATA KELOLA PERKANTORAN 1 | F86: 30 …………
A87: 1 | B87: 5592 | C87: 0040111519 | D87: ADITIA PUTRA PRATAMA | E87: OTOMATISASI DAN TATA KELOLA PERKANTORAN 2 | F87: 1 …………
A88: =A87+1 -> 2 | B88: 5593 | C88: 0030691710 | D88: AGUS SAPUTRA | E88: OTOMATISASI DAN TATA KELOLA PERKANTORAN 2 | F88: 2 …………
A89: =A88+1 -> 3 | B89: 5594 | C89: 0059240833 | D89: AHMAD INSANSYAH FITRAH | E89: OTOMATISASI DAN TATA KELOLA PERKANTORAN 2 | F89: 3 …………
A90: =A89+1 -> 4 | B90: 5595 | C90: 0045924647 | D90: ARIFIN ROMADHONI | E90: OTOMATISASI DAN TATA KELOLA PERKANTORAN 2 | F90: 4 …………
A91: =A90+1 -> 5 | B91: 5596 | C91: 0041281720 | D91: CHEVIN RAMADAN | E91: OTOMATISASI DAN TATA KELOLA PERKANTORAN 2 | F91: 5 …………
A92: =A91+1 -> 6 | B92: 5597 | C92: 0040436229 | D92: DELLA EFRIANTI | E92: OTOMATISASI DAN TATA KELOLA PERKANTORAN 2 | F92: 6 …………
A93: =A92+1 -> 7 | B93: 5598 | C93: 0050297044 | D93: DELSI APRIL LIANI | E93: OTOMATISASI DAN TATA KELOLA PERKANTORAN 2 | F93: 7 …………
A94: =A93+1 -> 8 | B94: 5599 | C94: 0040472625 | D94: DONI ALAMSYAH | E94: OTOMATISASI DAN TATA KELOLA PERKANTORAN 2 | F94: 8 …………
A95: =A94+1 -> 9 | B95: 5600 | C95: 0040436232 | D95: DWI SARAHWATI | E95: OTOMATISASI DAN TATA KELOLA PERKANTORAN 2 | F95: 9 …………
A96: =A95+1 -> 10 | B96: 5601 | C96: 0042488149 | D96: EDIS ADELIA | E96: OTOMATISASI DAN TATA KELOLA PERKANTORAN 2 | F96: 10 …………
A97: =A96+1 -> 11 | B97: 5602 | C97: 0030494678 | D97: ELSA PURWANTI | E97: OTOMATISASI DAN TATA KELOLA PERKANTORAN 2 | F97: 11 …………
A98: =A97+1 -> 12 | B98: 5603 | C98: 0041093088 | D98: FANNI ANUGRAH | E98: OTOMATISASI DAN TATA KELOLA PERKANTORAN 2 | F98: 12 …………
A99: =A98+1 -> 13 | B99: 5604 | C99: 0041093110 | D99: FINNA KURNIA | E99: OTOMATISASI DAN TATA KELOLA PERKANTORAN 2 | F99: 13 …………
... A121: =A120+1 -> 35 | B121: 5626 | C121: 0033461051 | D121: WIDIA | E121: OTOMATISASI DAN TATA KELOLA PERKANTORAN 2 | F121: 35 …………
A122: 1 | B122: 5627 | C122: 0045561056 | D122: ALPINDO SAPUTRA | E122: OTOMATISASI DAN TATA KELOLA PERKANTORAN 3 | F122: 1 …………
A123: =A122+1 -> 2 | B123: 5628 | C123: 0040359565 | D123: ALSE MUNIKA | E123: OTOMATISASI DAN TATA KELOLA PERKANTORAN 3 | F123: 2 …………
A124: =A123+1 -> 3 | B124: 5629 | C124: 0050519209 | D124: ANANDA MICOLA | E124: OTOMATISASI DAN TATA KELOLA PERKANTORAN 3 | F124: 3 …………
A125: =A124+1 -> 4 | B125: 5630 | C125: 0040892215 | D125: CICI RAHAYU | E125: OTOMATISASI DAN TATA KELOLA PERKANTORAN 3 | F125: 4 …………
A126: =A125+1 -> 5 | B126: 5631 | C126: 0041313097 | D126: CITRA SEPTI HERLINA | E126: OTOMATISASI DAN TATA KELOLA PERKANTORAN 3 | F126: 5 …………
A127: =A126+1 -> 6 | B127: 5632 | C127: 0030473071 | D127: DANDIEGO HERDIYANSYAH | E127: OTOMATISASI DAN TATA KELOLA PERKANTORAN 3 | F127: 6 …………
A128: =A127+1 -> 7 | B128: 5633 | C128: 0047248450 | D128: DANIA SEPTRIANI | E128: OTOMATISASI DAN TATA KELOLA PERKANTORAN 3 | F128: 7 …………
A129: =A128+1 -> 8 | B129: 5635 | C129: 0041277097 | D129: DEFA OKTAPIANI | E129: OTOMATISASI DAN TATA KELOLA PERKANTORAN 3 | F129: 8 …………
A130: =A129+1 -> 9 | B130: 5636 | C130: 0020116346 | D130: FERA MONALISA | E130: OTOMATISASI DAN TATA KELOLA PERKANTORAN 3 | F130: 9 …………
A131: =A130+1 -> 10 | B131: 5637 | C131: 0040111522 | D131: FIMAS DWI SAPUTRA | E131: OTOMATISASI DAN TATA KELOLA PERKANTORAN 3 | F131: 10 …………
A132: =A131+1 -> 11 | B132: 5638 | C132: 0042314778 | D132: FIONA HASDO PUTRI | E132: OTOMATISASI DAN TATA KELOLA PERKANTORAN 3 | F132: 11 …………
A133: =A132+1 -> 12 | B133: 5639 | C133: 0050414016 | D133: MELANDA AFRISKA | E133: OTOMATISASI DAN TATA KELOLA PERKANTORAN 3 | F133: 12 …………
A134: =A133+1 -> 13 | B134: 5640 | C134: 0042012301 | D134: MEROLIN DEA PUTRI | E134: OTOMATISASI DAN TATA KELOLA PERKANTORAN 3 | F134: 13 …………
... A155: =A154+1 -> 34 | B155: 5662 | C155: 0035170525 | D155: TIARA AMELIA VEGA | E155: OTOMATISASI DAN TATA KELOLA PERKANTORAN 3 | F155: 34 …………
A156: 1 | B156: 5394 | C156: 0048199987 | D156: ADE TRIPANSYAH | E156: MULTIMEDIA 1 | F156: 1 …………
A157: =A156+1 -> 2 | B157: 5395 | C157: 0041614070 | D157: AGUNG ARTHA PRADANA PUTRA | E157: MULTIMEDIA 1 | F157: 2 …………
A158: =A157+1 -> 3 | B158: 5396 | C158: 0040374832 | D158: AHMAD REZY ANUGRAH | E158: MULTIMEDIA 1 | F158: 3 …………
A159: =A158+1 -> 4 | B159: 5397 | C159: 0048021136 | D159: AKBAR PIRNANDA | E159: MULTIMEDIA 1 | F159: 4 …………
A160: =A159+1 -> 5 | B160: 5398 | C160: 0041772996 | D160: ALBAR WIJAYA | E160: MULTIMEDIA 1 | F160: 5 …………
A161: =A160+1 -> 6 | B161: 5399 | C161: 0040831718 | D161: ALDIN NOVAL RIDHO | E161: MULTIMEDIA 1 | F161: 6 …………
A162: =A161+1 -> 7 | B162: 5400 | C162: 0045047517 | D162: ALFINA DAMAYANTI | E162: MULTIMEDIA 1 | F162: 7 …………
A163: =A162+1 -> 8 | B163: 5401 | C163: 0044957078 | D163: BENY | E163: MULTIMEDIA 1 | F163: 8 …………
A164: =A163+1 -> 9 | B164: 5402 | C164: 0040396080 | D164: BERLIAN MAHARANI | E164: MULTIMEDIA 1 | F164: 9 …………
A165: =A164+1 -> 10 | B165: 5403 | C165: 0041575188 | D165: CEVIN JULIO | E165: MULTIMEDIA 1 | F165: 10 …………
A166: =A165+1 -> 11 | B166: 5404 | C166: 0041217583 | D166: CHAIRIL LIZAMAN | E166: MULTIMEDIA 1 | F166: 11 …………
A167: =A166+1 -> 12 | B167: 5405 | C167: 0039218024 | D167: DIAN MUSLIM RAMADHAN | E167: MULTIMEDIA 1 | F167: 12 …………
A168: =A167+1 -> 13 | B168: 5406 | C168: 0040436010 | D168: DICKY MOHARIANSYAH | E168: MULTIMEDIA 1 | F168: 13 …………
... A190: =A189+1 -> 35 | B190: 5429 | C190: 0044015229 | D190: YOHANES RISKI RAMADHAN | E190: MULTIMEDIA 1 | F190: 35 …………
A191: 1 | B191: 5430 | C191: 0042012312 | D191: ADITIA PUTRA PRATAMA | E191: MULTIMEDIA 2 | F191: 1 …………
A192: =A191+1 -> 2 | B192: 5431 | C192: 0041575199 | D192: ADRIAN AGUSTIAS | E192: MULTIMEDIA 2 | F192: 2 …………
A193: =A192+1 -> 3 | B193: 5433 | C193: 0040414168 | D193: AMAR ARFINO | E193: MULTIMEDIA 2 | F193: 3 …………
A194: =A193+1 -> 4 | B194: 5434 | C194: 0040396214 | D194: ATIHKO DZULFIKRI | E194: MULTIMEDIA 2 | F194: 4 …………
A195: =A194+1 -> 5 | B195: 5435 | C195: 0041212080 | D195: AZIL HIDAYATULLAH | E195: MULTIMEDIA 2 | F195: 5 …………
A196: =A195+1 -> 6 | B196: 5436 | C196: 0041575134 | D196: BERLIAN ALFA REZI | E196: MULTIMEDIA 2 | F196: 6 …………
A197: =A196+1 -> 7 | B197: 5437 | C197: 0033908841 | D197: ERZAT CHANDRA SAPUTRA | E197: MULTIMEDIA 2 | F197: 7 …………
A198: =A197+1 -> 8 | B198: 5438 | C198: 0040798002 | D198: GUSMIATI | E198: MULTIMEDIA 2 | F198: 8 …………
A199: =A198+1 -> 9 | B199: 5439 | C199: 0041575187 | D199: HADI IMAM PRATAMA | E199: MULTIMEDIA 2 | F199: 9 …………
A200: =A199+1 -> 10 | B200: 5440 | C200: 0040659692 | D200: HEIGAR MUHAMAD PENTARI | E200: MULTIMEDIA 2 | F200: 10 …………
A201: =A200+1 -> 11 | B201: 5442 | C201: 0041093107 | D201: INDA SARI | E201: MULTIMEDIA 2 | F201: 11 …………
A202: =A201+1 -> 12 | B202: 5443 | C202: 0045304846 | D202: KALFIN HELVANDU | E202: MULTIMEDIA 2 | F202: 12 …………
...

Sheet AP (2)
A1: REKAPITULASI NOMOR PESERTA UJIAN
A2: PROPINSI SUMATERA SELATAN
A4: Nama Sekolah | C4: : SMK Muhammadiyah Pagaralam | N4: Tahun Pelajaran | O4: : 2021/2022
A5: S t a t u s | C5: : Terakreditasi | N5: K e l o m p o k | O5: : BISNIS MANAJEMEN
A6: A l a m a t | C6: : Jl. Kombes H.Umar No. 1123 Telp/Fax. (0730) 624223 Kota Pagaralam | N6: Program Keahlian | O6: : AKUNTANSI
A7: Catatan | C7: : (*) Coret yang tidak perlu
A9: NO | B9: NIS | C9: NISN | D9: NOMOR UJIAN | K9: N A M A S I S W A | L9: TEMPAT TANGGAL LAHIR | M9: L/P | N9: NAMA ORANG TUA | O9: ALAMAT | P9: KETERANGAN
A11: 1 | B11: 5503 | C11: 0050353235 | K11: AAS SITI HASANA | L11: BANTUNAN, 01 MARET 2005 | M11: P | N11: TANYOK | O11: BANTUNAN | P11: AKUNTANSI
A12: =A11+1 -> 2 | B12: 5504 | C12: 0045216454 | K12: AGUNG SANJAYA | L12: CURUP-CAWANG LAMA, 06 AGUSTUS 2004 | M12: L | N12: SUHADI | O12: MUARA SIBAN | P12: AKUNTANSI
A13: =A12+1 -> 3 | B13: 5505 | C13: 0040938093 | K13: AISYAH DWI FORTUNA | L13: MUARA JAUH, 17 AGUSTUS 2004 | M13: P | N13: SUHERI | O13: MUARA JAUH | P13: AKUNTANSI
A14: =A13+1 -> 4 | B14: 5506 | C14: 0043186302 | K14: ALEX BAMBANG SUSILO | L14: ACEH, 6 JUNI 2004 | M14: L | N14: ILHAM NASARUDIN | O14: ACEH | P14: AKUNTANSI
A15: =A14+1 -> 5 | B15: 5507 | C15: 0049864015 | K15: ANGGUN LESTARI | L15: PAGARALAM, 09 MEI 2004 | M15: P | N15: ARIFIN | O15: KEBAN AGUNG BARU | P15: AKUNTANSI
A16: =A15+1 -> 6 | B16: 5508 | C16: 0042873760 | K16: APRIANSEN | L16: PAGARALAM, 19 APRIL 2004 | M16: L | N16: DADANG SAPUTRA | O16: GUNUNG GENDANG | P16: AKUNTANSI
A17: =A16+1 -> 7 | B17: 5509 | C17: 0042814320 | K17: BULAN SARI | L17: SUNGAI BATANG, 24 APRIL 2004 | M17: P | N17: ZAN AFNAN | O17: JL. PELTU MENALIS PAGARALAM | P17: AKUNTANSI
A18: =A17+1 -> 8 | B18: 5510 | C18: 0050315247 | K18: CENDI FAJRIANI | L18: SADAN, 26 JANUARI 2005 | M18: P | N18: DENI EFENDI | O18: SADAN | P18: AKUNTANSI
A19: =A18+1 -> 9 | B19: 5511 | C19: 0041093082 | K19: DAVIN RIYAN SAPUTRA | L19: PAGARALAM, 24 JANUARI 2004 | M19: L | N19: MUJI | O19: MEKAR ALAM | P19: AKUNTANSI
A20: =A19+1 -> 10 | B20: 5512 | C20: 0045161134 | K20: DINDA VIANDRA PUTRI | L20: PAGARALAM, 09 SEPTEMBER 2004 | M20: P | N20: SLAMET RAHAYU | O20: DUSPA | P20: AKUNTANSI
A21: =A20+1 -> 11 | B21: 5513 | C21: 0031832597 | K21: ERLANGGA PRASETIA BAKTI | L21: SIMPANG III PUMU, 6 MARET 2003 | M21: L | N21: MUSMULYADI | O21: PEMATANG BANGO | P21: AKUNTANSI
A22: =A21+1 -> 12 | B22: 5514 | C22: 0050376683 | K22: FERRI SUHARMAN | L22: PAGARALAM, 18 MEI 2005 | M22: L | N22: EVI SUHARMAN | O22: PERUM PERANDONAN | P22: AKUNTANSI
A23: =A22+1 -> 13 | B23: 5515 | C23: 0040892199 | K23: HERU FERIANSYAH | L23: SIDOREJO, 9 JUNI 2004 | M23: L | N23: JULIANTO | O23: NENDAGUNG | P23: AKUNTANSI
... A379: =A378+1 -> 369 | B379: 5502 | C379: 0043492383 | K379: YULIANAH | L379: BEKASI, 27 JULI 2004 | M379: P | N379: ICA ARIPI | O379: NEGERI KAYA | P379: FARMASI

Sheet BLK
A1: KOMPETENSI KEAHLIAN OTOMATISASI TATA KELOLA PERKANTORAN
A2: KLASTER PENGELOLAAN DOKUMEN PERKANTORAN | P2: 1
A4: DAFTAR UNIT KOMPETENSI
A6: No. | B6: Kode Unit Kompetensi | C6: Judul Unit Kompetensi
A8: 1. | B8: N.821100.001.02 | C8: Menagani Penerimaan / Pengiriman Surat/ Dokumen
A10: 2. | B10: N.821100.002.02 | C10: Mengatur Penggandaan/ Pengumpulan Surat/ Dokumen
A12: 3. | B12: N.821100.033.02 | C12: Membaca Dalam Bahasa Inggris pada Tingkat Operasional Dasar
A14: 4. | B14: N.821100.053.02 | C14: Memproduksi Dokumen Di Komputer
A16: 5. | B16: N.821100.057.02 | C16: Mengoperasikan Aplikasi Perangkat Lunak
A18: 6. | B18: N.821100.059.02 | C18: Menggunakan Peralatan dan Sumber Daya Kerja
A20: 7. | B20: N.821100.073.02 | C20: Mengelola Arsip
A22: 8. | B22: N.821100.075.02 | C22: Menerapkan Prosedur K3 Perkantoran
A24: 9. | B24: N.821100.076.02 | C24: Meminimalisir Pencurian
A26: 10. | B26: N.821100.003.02 | C26: Menciptakan Dokumen/ Lembar Kerja Sederhana
A28: 11. | B28: N.821100.034.02 | C28: Menulis dalam Bahasa Inggris Pada Tingkat Operasional Dasar
... A36: 15. | B36: N.821100.061.02 | C36: Menggunakan Peralatan Komunikasi
C47: =VLOOKUP($P$2,PENGUMUMAN!A15:E70,4,0) -> ALDIAN MUSTOPA
C48: Tanda Tangan Pemilik

Sheet Sheet1
A4: No. | B4: Kode Kompetensi | C4: Judul Unit Kompetensi
A5: 1. | C5: Menagani Penerimaan / Pengiriman Surat/ Dokumen
A6: 2. | C6: Mengatur Penggandaan/ Pengumpulan
A7: 3. | C7: Membaca Dalam Bahasa Inggris pada Tingkat Operasional Dasar
A8: 4. | C8: Memproduksi Dokumen Di Komputer
A9: 5. | C9: Mengoperasikan Aplikasi Perangkat Lunak
A10: 6. | C10: Menggunakan Peralatan dan Sumber Daya Kerja
A11: 7. | C11: Mengelola Arsip
A12: 8. | C12: Menerapkan Prosedur K3 Perkantoran
A13: 9. | C13: Meminimalisir Pencurian
A14: 10. | C14: Menciptakan Dokumen/ Lembar Kerja Sederhana
A15: 11. | C15: Menulis dalam Bahasa Inggris Pada Tingkat Operasional Dasar
A16: 12. | C16: Memelihara Data/ File di Komputer
... A19: 15. | C19: Menggunakan Peralatan Komunikasi

Sheet Sheet2
A1: NOMOR | C1: NAMA SISWA
A5: 1 | C5: AGUNG HASANA APRIADI
A6: 2 | C6: AGUS DERMAWAN ICHSAN
A7: 3 | C7: ANDINY PUSPA MELATI
A8: 4 | C8: ANGGO SUKURILLA
A9: 5 | C9: ASTI JULITA
A10: 6 | C10: DEVI PERMATA SARI
A11: 7 | C11: ELISA LARASTIANI
A12: 8 | C12: EVELIN VINKA OKTALISA
A13: 9 | C13: FAJAR GUSTIGA
A14: 10 | C14: FEBRI ANGGARA
A15: 11 | C15: IVAN RINALDI
... A33: 29 | C33: YUPITA MAYA SARI

Sheet Sheet3
A3: NOMOR | C3: NAMA SISWA
A7: 1 | C7: CITRA RENDESI
A8: 2 | C8: DIDI FIRWAN
A9: 3 | C9: ELA SURYANI
A10: 4 | C10: ENO YUNIAR SAFITRI
A11: 5 | C11: EPAN KURNIAWAN
A12: 6 | C12: ERA MAYA SARI
A13: 7 | C13: FEBRIANTIKA
A14: 8 | C14: ILIN TITI RAHAYU
A15: 9 | C15: INDAH SUCI MAYANG SARI
A16: 10 | C16: KEMAS IBRAHIM
A17: 11 | C17: KURNIA
... A34: 28 | C34: YULI ANDRIANI

Sheet Sheet4
G13: Nomor | H13: : 2511/III.4.AU.SMK.M/F/2024
